Workbook

Sheet Вироб ТЕ
N1: Додаток 3
N2: до Порядку розгляду органами місцевого самоврядування розрахунків тарифів на теплову енергію, її виробництво, транспортування та постачання, а також розрахунків тарифів на комунальні послуги, поданих для їх встановлення (підпункт 1 пункту 3 розділу ІІ)
A4: Розрахунок тарифів на виробництво теплової енергії КП "Тепловик" на період з 01.10.2021р. по 30.09.2022р.
S5: без ПДВ
A6: N з/п | B6: Показники | C6: Од. виміру | D6: Сумарні та середньозважені показники | H6: Виробництво теплової енергії для потреб населення | L6: Виробництво теплової енергії для потреб бюджетних установ | P6: Виробництво теплової енергії для потреб інших споживачів
D7: Період, попередній базовому (факт 2019 р.) | E7: Базовий перід (факт 2020 р.) | F7: Передба-чено діючим тарифом | G7: Плановий період з 01.10.2021р. по 30.09.2022р. | H7: Період, попередній базовому (факт 2019 р.) | I7: Базовий перід (факт 2020 р.) | J7: Передба-чено діючим тарифом | K7: Плановий період з 01.10.2021р. по 30.09.2022р. | L7: Період, попередній базовому (факт 2019.) | M7: Базовий перід (факт 2020 р.) | N7: Передба-чено діючим тарифом | O7: Плановий період з 01.10.2021р. по 30.09.2022р. | P7: Період, попередній базовому (факт 2019 р.) | Q7: Базовий перід (факт 2020 р.) | R7: Передба-чено діючим тарифом | S7: Плановий період з 01.10.2021р. по 30.09.2022р.
A8: 1 | B8: 2 | C8: 3 | D8: 4 | E8: 5 | F8: 6 | G8: 7 | H8: 8 | I8: 9 | J8: 10 | K8: 11 | L8: 12 | M8: 13 | N8: 14 | O8: 15 | P8: 16 | Q8: 17 | R8: 18 | S8: 19
A9: 1 | B9: Виробнича собівартість, у т. ч.: | C9: тис. грн | D9: 61870.063 | E9: 57074.88 | F9: х | G9: 87459.111 | H9: 46091.872 | I9: 43135.112 | J9: х | K9: 65455.926 | L9: 7085.5793 | M9: 6522.4597 | N9: х | O9: 20523.172 | P9: 466.96163 | Q9: 946.33718 | R9: х | S9: 1480.7747
A10: 1.1 | B10: прямі матеріальні витрати, у т. ч.: | C10: тис. грн | D10: 50259.03 | E10: 46932.5 | F10: х | G10: 70107.393 | H10: 36111.351 | I10: 34386.17 | J10: х | K10: 51202.071 | L10: 5913.9094 | M10: 5379.6252 | N10: х | O10: 17633.782 | P10: 216.9501 | Q10: 682.51487 | R10: х | S10: 1272.3047
A11: 1.1.1 | B11: паливо | C11: тис. грн | D11: 39683.4 | E11: 37947.7 | F11: х | G11: 68318.684 | H11: 33929.307 | I11: 32255.545 | J11: х | K11: 49907.871 | L11: 5555.676 | M11: 5047.0441 | N11: х | O11: 17172.551 | P11: 198.417 | Q11: 645.1109 | R11: х | S11: 1239.0273
A12: 1.1.2 | B12: електроенергія | C12: тис. грн | D12: 1411 | E12: 1479.33 | F12: х | G12: 1493.7104 | H12: 1206.405 | I12: 1257.4305 | J12: х | K12: 1227.033 | L12: 197.54 | M12: 196.75089 | N12: х | O12: 248.73106 | P12: 7.055 | Q12: 25.14861 | R12: х | S12: 17.946331
A13: 1.1.3 | B13: покупна теплова енергія та собівартість теплової енергії власних ТЕЦ, ТЕС, АЕС, когенераційних установок | C13: тис. грн | D13: 0 | E13: 0 | F13: х | G13: 0 | H13: 0 | I13: 0 | J13: 0 | K13: 0 | L13: 0 | M13: 0 | N13: х | O13: 0 | P13: 0 | Q13: 0 | R13: х | S13: 0
A14: 1.1.4 | B14: вода для технологічних потреб та водовідведення | C14: тис. грн | D14: 105 | E14: 95.49 | F14: х | G14: 20.89885 | H14: 89.25 | I14: 81.64395 | J14: х | K14: 17.167704 | L14: 14.7 | M14: 12.70017 | N14: х | O14: 3.4800543 | P14: 1.05 | Q14: 1.14588 | R14: х | S14: 0.25109129
A15: 1.1.5 | B15: матеріали, запасні частини та інші матеріальні ресурси | C15: тис. грн | D15: 1042.81 | E15: 925.79 | F15: х | G15: 274.1 | H15: 886.3885 | I15: 791.55045 | J15: х | K15: 50 | L15: 145.9934 | M15: 123.13007 | N15: х | O15: 209.02 | P15: 10.4281 | Q15: 11.10948 | R15: х | S15: 15.08
A16: 1.2 | B16: прямі витрати на оплату праці | C16: тис. грн | D16: 4031 | E16: 3462.86 | F16: х | G16: 5686.285 | H16: 3517.4506 | I16: 3014.7659 | J16: х | K16: 4671.0924 | L16: 322.48 | M16: 289.84138 | N16: х | O16: 946.87412 | P16: 191.0694 | Q16: 158.2527 | R16: х | S16: 68.318432
A17: 1.3 | B17: інші прямі витрати, у т. ч.: | C17: тис. грн | D17: 3985.82 | E17: 3021.33 | F17: х | G17: 4470.8233 | H17: 3407.9891 | I17: 2606.4241 | J17: х | K17: 3672.6314 | L17: 346 | M17: 366.45377 | N17: х | O17: 744.47674 | P17: 23 | Q17: 61.671324 | R17: х | S17: 53.711147
A18: 1.3.1 | B18: відрахування на соціальні заходи | C18: тис. грн | D18: 886.82 | E18: 748.61 | F18: х | G18: 1250.9827 | H18: 773.83913 | I18: 663.2485 | J18: х | K18: 1027.6403 | L18: 70.9456 | M18: 63.765104 | N18: х | O18: 208.31231 | P18: 42.035268 | Q18: 34.815594 | R18: х | S18: 15.030055
A19: 1.3.2 | B19: амортизаційні відрахування | C19: тис. грн | D19: 706 | E19: 1389.7 | F19: х | G19: 1795.4 | H19: 600.1 | I19: 1188.1935 | J19: х | K19: 1474.8609 | L19: 98.84 | M19: 185.24701 | N19: х | O19: 298.9681 | P19: 7.06 | Q19: 16.25949 | R19: х | S19: 21.57101
A20: 1.3.3 | B20: інші прямі витрати | C20: тис. грн | D20: 2393 | E20: 883.02 | F20: х | G20: 1424.4406 | H20: 2034.05 | I20: 754.9821 | J20: х | K20: 1170.1302 | L20: 335.02 | M20: 117.44166 | N20: х | O20: 237.19633 | P20: 23.93 | Q20: 10.59624 | R20: х | S20: 17.114082
A21: 1.4 | B21: загальновиробничі витрати, у т. ч.: | C21: тис. грн | D21: 3594.2134 | E21: 3658.19 | F21: х | G21: 7194.6094 | H21: 3055.0814 | I21: 3127.7524 | J21: х | K21: 5910.1304 | L21: 503.18988 | M21: 486.53927 | N21: х | O21: 1198.0387 | P21: 35.942134 | Q21: 43.89828 | R21: х | S21: 86.440345
A22: 1.4.1 | B22: витрати на оплату праці | C22: тис. грн | D22: 2833.47 | E22: 2597.33 | F22: х | G22: 5122.9811 | H22: 2408.4495 | I22: 2220.7171 | J22: х | K22: 4208.3572 | L22: 396.6858 | M22: 345.44489 | N22: х | O22: 853.07336 | P22: 28.3347 | Q22: 31.16796 | R22: х | S22: 61.550562
A23: 1.4.2 | B23: відрахування на соціальні заходи | C23: тис. грн | D23: 623.3634 | E23: 578.55 | F23: х | G23: 1127.0558 | H23: 529.85889 | I23: 494.66025 | J23: х | K23: 925.83858 | L23: 87.270876 | M23: 76.94715 | N23: х | O23: 187.67614 | P23: 6.233634 | Q23: 6.9426 | R23: х | S23: 13.541124
A24: 1.4.3 | B24: інші витрати | C24: тис. грн | D24: 137.38 | E24: 482.31 | F24: х | G24: 944.57247 | H24: 116.773 | I24: 412.37505 | J24: х | K24: 775.93461 | L24: 19.2332 | M24: 64.14723 | N24: х | O24: 157.2892 | P24: 1.3738 | Q24: 5.78772 | R24: х | S24: 11.348659
A25: 2 | B25: Адміністративні витрати, у т. ч.: | C25: тис. грн | D25: 3074.97 | E25: 3542.32 | F25: х | G25: 3500.2751 | H25: 2359.4245 | I25: 3041.5508 | J25: х | K25: 2875.3586 | L25: 430.49558 | M25: 473.13013 | N25: х | O25: 582.86208 | P25: 30.751284 | Q25: 27.639033 | R25: х | S25: 42.0544
A26: 2.1 | B26: витрати на оплату праці | C26: тис. грн | D26: 1922.22 | E26: 2244.77 | F26: х | G26: 2402.7388 | H26: 1633.887 | I26: 1919.2783 | J26: х | K26: 1973.7694 | L26: 269.1108 | M26: 298.55441 | N26: х | O26: 400.10151 | P26: 19.2222 | Q26: 26.93724 | R26: х | S26: 28.867942
A27: 2.2 | B27: відрахування на соціальні заходи | C27: тис. грн | D27: 422.89 | E27: 478.8 | F27: х | G27: 528.60254 | H27: 359.45514 | I27: 422.24124 | J27: х | K27: 434.22926 | L27: 59.204376 | M27: 65.68197 | N27: х | O27: 88.022332 | P27: 4.230484 | Q27: 9.1232072 | R27: х | S27: 6.3509473
A28: 2.3 | B28: інші витрати | C28: тис. грн | D28: 729.86 | E28: 818.75 | F28: х | G28: 568.9337 | H28: 620.381 | I28: 700.03125 | J28: х | K28: 467.35995 | L28: 102.1804 | M28: 108.89375 | N28: х | O28: 94.738234 | P28: 7.2986 | Q28: 9.825 | R28: х | S28: 6.83551
A29: 2.4 | C29: тис. грн | G29: 0 | R29: х
A30: 3 | B30: Витрати на збут, у т. ч.: | C30: тис. грн | D30: 0 | E30: 0 | F30: х | G30: 0 | H30: 0 | I30: 0 | J30: х | K30: 0 | L30: 0 | M30: 0 | N30: х | O30: 0 | P30: 0 | Q30: 0 | R30: х | S30: 0
A31: 3.1 | B31: витрати на оплату праці | C31: тис. грн | D31: 0 | E31: 0 | F31: х | G31: 0 | H31: 0 | I31: 0 | J31: х | K31: 0 | L31: 0 | M31: 0 | N31: х | O31: 0 | P31: 0 | Q31: 0 | R31: х | S31: 0
A32: 3.2 | B32: відрахування на соціальні заходи | C32: тис. грн | D32: 0 | E32: 0 | F32: х | G32: 0 | H32: 0 | I32: 0 | J32: х | K32: 0 | L32: 0 | M32: 0 | N32: х | O32: 0 | P32: 0 | Q32: 0 | R32: х | S32: 0
A33: 3.3 | B33: інші витрати | C33: тис. грн | D33: 0 | E33: 0 | F33: х | G33: 0 | H33: 0 | I33: 0 | J33: х | K33: 0 | L33: 0 | M33: 0 | N33: х | O33: 0 | P33: 0 | Q33: 0 | R33: х | S33: 0
A34: 4 | B34: Інші операційні витрати* | C34: тис. грн | E34: 0 | F34: х | G34: 0 | J34: х | L34: 0 | M34: 0 | N34: х | O34: 0 | R34: х | S34: 0
A35: 5 | B35: Фінансові витрати (послуги банку за приймання платежів) | C35: тис. грн | D35: 0 | F35: х | G35: 0 | J35: х | K35: 0 | L35: 0 | M35: 0 | N35: х | P35: 0 | Q35: 0 | R35: х | S35: 0
A36: 6 | B36: Повна собівартість* | C36: тис. грн | D36: 64945.033 | E36: 60617.2 | F36: х | G36: 90959.386 | H36: 48451.296 | I36: 46176.663 | J36: х | K36: 68331.284 | L36: 7516.0749 | M36: 6995.5898 | N36: х | O36: 21106.034 | P36: 497.71292 | Q36: 973.97621 | R36: х | S36: 1522.8291
A37: 7 | B37: Розрахунковий прибуток, усього *, у т. ч.: | C37: тис. грн | E37: 0 | F37: х | G37: 0 | H37: 0 | J37: х | K37: 0 | L37: 0 | M37: 0 | N37: х | O37: 0 | P37: 19.89 | Q37: 20.15 | R37: х | S37: 0
A38: 7.1 | B38: податок на прибуток | C38: тис. грн | D38: 0 | E38: 0 | F38: х | G38: 0 | H38: 0 | I38: 0 | J38: х | K38: 0 | L38: 0 | M38: 0 | N38: х | O38: 0 | P38: х | Q38: х | R38: х | S38: 0
A39: 7.2 | B39: дивіденди | C39: тис. грн | D39: 0 | E39: 0 | F39: х | G39: 0 | H39: 0 | I39: 0 | J39: х | K39: 0 | L39: 0 | M39: 0 | N39: х | O39: 0 | P39: х | Q39: х | R39: х | S39: 0
A40: 7.3 | B40: резервний фонд (капітал) | C40: тис. грн | D40: 0 | E40: 0 | F40: х | H40: 0 | I40: 0 | J40: х | L40: 0 | M40: 0 | N40: х | O40: 0 | P40: х | Q40: х | R40: х | S40: 0
A41: 7.4 | B41: витрати на розвиок виробництва ( виробничі інвестиції) | C41: тис. грн | E41: 0 | F41: х | J41: х | K41: 0 | N41: х | O41: 0 | R41: х | S41: 0
...

Sheet Транспорт ТЕ
D1: Додаток 4
D2: до Порядку формування тарифів на теплову енергію, її виробництво, транспортування та постачання
A4: Розрахунок тарифів на транспортування теплової енергії КП "Тепловик" на період з 01.10.2021р. по 30.09.2022р.
G5: Без ПДВ
A6: N з/п | B6: Показники | C6: Одиниця виміру | D6: Усього
D7: Період, попередній базовому (факт 2019 р.) | E7: Базовий перід (факт 2020 р.) | F7: Передбачено діючим тарифом | G7: Плановий період з 01.10.2021 по 30.09.2022р.
A8: 1 | B8: 2 | C8: 3 | D8: 4 | E8: 5 | F8: 6 | G8: 6
A9: 1 | B9: Виробнича собівартість, у тому числі: | C9: тис. грн | D9: 2998.4148 | E9: 5730.36 | F9: 0 | G9: 8032.4302
A10: 1.1 | B10: Прямі матеріальні витрати, у тому числі: | C10: тис. грн | D10: 1131.6 | E10: 3472.49 | F10: 0 | G10: 2924.5033
A11: 1.1.1 | B11: електроенергія | C11: тис. грн | D11: 958.6 | E11: 2806.56 | F11: 0 | G11: 2760.0805
A12: 1.1.2 | B12: транспортування теплової енергії тепловими мережами інших підприємств | C12: тис. грн | D12: 0 | E12: 0 | F12: 0 | G12: 0
A13: 1.1.3 | B13: вода для технологічних потреб та водовідведення | C13: тис. грн | D13: 112 | E13: 112 | F13: 0 | G13: 112.3028
A14: 1.1.4 | B14: матеріали, запасні частини та інші матеріальні ресурси | C14: тис. грн | D14: 61 | E14: 553.93 | F14: 0 | G14: 52.12
A15: 1.2 | B15: Прямі витрати на оплату праці | C15: тис. грн | D15: 378 | E15: 96.45 | F15: 0 | G15: 511.484
A16: 1.3 | B16: Інші прямі витрати, у тому числі: | C16: тис. грн | D16: 1294 | E16: 1643.41 | F16: 0 | G16: 1964.0261
A17: 1.3.1 | B17: відрахування на соціальні заходи | C17: тис. грн | D17: 92 | E17: 26.41 | F17: 0 | G17: 112.52648
A18: 1.3.2 | B18: амортизаційні відрахування | C18: тис. грн | D18: 845 | E18: 1356 | F18: 0 | G18: 1781.886
A19: 1.3.3 | B19: інші прямі витрати | C19: тис. грн | D19: 357 | E19: 261 | F19: 0 | G19: 69.6136
A20: 1.4 | B20: Загальновиробничі витрати, у тому числі: | C20: тис. грн | D20: 194.8148 | E20: 518.01 | F20: 0 | G20: 2632.4169
... A35: 7 | B35: Розрахунковий прибуток*, усього, у тому числі: | C35: тис. грн | D35: 0 | E35: 0 | F35: 0 | G35: 0
A36: 7.1 | B36: податок на прибуток | C36: тис. грн | E36: х | F36: 0 | G36: 0
A37: 7.2 | B37: дивіденди | C37: тис. грн | E37: х | F37: 0 | G37: 0
A38: 7.3 | B38: резервний фонд (капітал) | C38: тис. грн | E38: х | F38: 0 | G38: 0
A39: 7.4 | B39: витрати на покриття втрат 2% | C39: тис. грн | E39: х | F39: 0
A40: 7.5 | B40: інше використання прибутку | C40: тис. грн | E40: х | F40: 0
A41: 8 | B41: Вартість транспортування теплової енергії за відповідними тарифами | C41: тис. грн | D41: 1547 | E41: 6231.97 | F41: 0 | G41: 9306.3371
A42: 9 | B42: Середньозважений тариф на транспортування теплової енергії | C42: грн/Гкал | D42: 27.34 | E42: 152.24434 | F42: 0 | G42: 221.28821
A43: 10 | B43: Обсяг надходження теплової енергії до мережі ліцензіата, у т. ч.: | C43: Гкал | D43: 59623 | E43: 0 | F43: 0 | G43: 49376.493
A44: 10.1 | B44: власної теплової енергії | C44: Гкал | D44: 59623 | F44: 0 | G44: 49376.493
A45: 10.2 | B45: теплоенергії інших власників для транспортування мережами ліцензіата | C45: Гкал | D45: 0 | E45: 0 | F45: 0 | G45: 0
A46: 11 | B46: Втрати теплової енергії в мережах ліцензіата, всього, у т. ч.: | C46: Гкал | D46: 6872 | E46: 0 | F46: 0 | G46: 6396
A47: 11.1 | B47: власної теплової енергії | C47: Гкал | D47: 6872 | E47: 0 | F47: 0 | G47: 6396
A48: 11.2 | B48: теплової енергії інших власників | C48: Гкал | D48: 0 | E48: 0 | F48: 0 | G48: 0
A49: 12 | B49: Корисний відпуск теплової енергії з мереж ліцензіата, усього, у т. ч.: | C49: Гкал | D49: 52751 | F49: 0 | G49: 42980.493
A50: 12.1 | B50: господарські потреби ліцензованої діяльності ліцензіата | C50: Гкал | D50: 1242 | E50: 0 | F50: 0 | G50: 925.2161
A51: 12.2 | B51: корисний відпуск теплової енергії інших власників | C51: Гкал | D51: 0 | E51: 0 | F51: 0 | G51: 0
A52: 12.3 | B52: Корисний відпуск теплової енергії власним споживачам, у т. ч. на потреби: | C52: Гкал | D52: 46509 | E52: 40934 | F52: 42055.277 | G52: 42055.277
A53: 12.3.1 | B53: населення | C53: Гкал | D53: 39540 | E53: 33371 | F53: 34547 | G53: 34547
A54: 12.3.2 | B54: бюджетних установ | C54: Гкал | D54: 6528 | E54: 7003 | F54: 7003 | G54: 7003
A55: 12.3.3 | B55: інших споживачів | C55: Гкал | D55: 441 | E55: 560 | F55: 505.27728 | G55: 505.27728
...

Sheet Постачання ТЕ 
D1: Додаток 5
D2: до Порядку формування тарифів на теплову енергію, її виробництво, транспортування та постачання
A4: Розрахунок тарифів на постачання теплової енергії КП "Тепловик" на період з 01.10.2021р. по 30.09.2022р.
F6: Без ПДВ
A7: N з/п | B7: Показники | C7: Одиниця виміру | D7: Усього
D8: Період, попередній базовому (факт 2019 р.) | E8: Базовий перід (факт 2020 р.) | F8: Плановий період з 01.10.2021р. по 30.09.2022р.
A9: 1 | B9: 2 | C9: 3 | D9: 4 | E9: 5 | F9: 7
A10: 1 | B10: Виробнича собівартість, у тому числі: | C10: тис. грн | D10: 999 | E10: 3224.5 | F10: 2656.1872
A11: 1.1 | B11: прямі матеріальні витрати | C11: тис. грн | D11: 95 | E11: 1151.78 | F11: 17.41
A12: 1.2 | B12: прямі витрати на оплату праці | C12: тис. грн | D12: 360 | E12: 866.1 | F12: 1818.784
A13: 1.3 | B13: інші прямі витрати, у тому числі: | C13: тис. грн | D13: 544 | E13: 1206.62 | F13: 413.31248
A14: 1.3.1 | B14: відрахування на соціальні заходи | C14: тис. грн | D14: 184 | E14: 246.6 | F14: 400.13248
A15: 1.3.2 | B15: амортизаційні відрахування | C15: тис. грн | D15: 129 | E15: 12.5 | F15: 10.78
A16: 1.3.3 | B16: інші прямі витрати | C16: тис. грн | D16: 231 | E16: 947.52 | F16: 2.4
A17: 1.4 | B17: Загальновиробничі витрати, у тому числі: | C17: тис. грн | D17: 77.35 | E17: 408 | F17: 406.68071
A18: 1.4.1 | B18: витрати на оплату праці | C18: тис. грн | D18: 60.94 | E18: 289.68 | F18: 289.66445
A19: 1.4.2 | B19: відрахування на соціальні заходи | C19: тис. грн | D19: 13.42 | E19: 64.52 | F19: 63.726178
A20: 1.4.3 | B20: інші витрати | C20: тис. грн | D20: 2.99 | E20: 53.8 | F20: 53.290088
A21: 2 | B21: Адміністративні витрати, у тому числі: | C21: тис. грн | D21: 64.59 | E21: 395.07 | F21: 204.69537
... A31: 6 | B31: Повна собівартість* | C31: тис. грн | D31: 1063.59 | E31: 3619.57 | F31: 2860.8826
A32: 7 | B32: Розрахунковий прибуток, усього, у тому числі: | C32: тис. грн | F32: 0
A33: 7.1 | B33: податок на прибуток | C33: тис. грн | D33: х | E33: х | F33: 0
A34: 7.2 | B34: дивіденди | C34: тис. грн | D34: х | E34: х | F34: 0
A35: 7.3 | B35: резервний фонд (капітал) | C35: тис. грн | D35: х | E35: х | F35: 0
A36: 7.4 | B36: витрати на покриття втрат 2% | C36: тис. грн | D36: х | E36: х
A37: 7.5 | B37: інше використання прибутку | C37: тис. грн | D37: х | E37: х
A38: 8 | B38: Вартість постачання теплової енергії за відповідними тарифами | C38: тис. грн | D38: 1063.59 | E38: 3619.57 | F38: 2860.8826
A39: 9 | B39: Середньозважений тариф на постачання теплової енергії | C39: грн/Гкал | D39: 28.046041 | E39: 88.424537 | F39: 68.02672
A40: 10 | B40: Обсяг реалізованої теплової енергії власним споживачам, у тому числі на потреби: | C40: Гкал | D40: 37923 | E40: 40934 | F40: 42055.277
A41: 10.1 | B41: населення | C41: Гкал | D41: 32422 | E41: 33371 | F41: 34547
A42: 10.2 | B42: бюджетних установ | C42: Гкал | D42: 5056 | E42: 7003 | F42: 7003
A43: 10.3 | B43: інших споживачів | C43: Гкал | D43: 445 | E43: 560 | F43: 505.27728
A45: * Без урахування списання безнадійної дебіторської заборгованості та нарахування резерву сумнівних боргів

Sheet загальна структура
M1: Додаток 1 до рішення виконавчого комітету міської ради
A2: Структура тарифу на теплову енергію комунального підприємства по експлуатації теплового господарства "Тепловик" Старокостянтинівської міської ради
A4: №п/п | B4: Найменування показників | C4: діючий тариф | E4: плановий тариф | G4: діючий тариф | I4: плановий тариф | K4: діючий тариф | M4: плановий тариф | O4: середньозважені показники
C5: для потреб населення №355 | E5: Для потреб населення | G5: Для потреб населення | I5: Для потреб бюджетних установ | K5: для потреб інших споживачів №355 | M5: Для потреб інших споживачів
C6: тис.грн. на рік | D6: на 1 Гкал | E6: тис.грн. на рік | F6: на 1 Гкал | G6: тис. грн на рік | H6: грн за 1 Гкал | I6: тис. грн на рік | J6: грн за 1 Гкал | K6: тис.грн. на рік | L6: на 1 Гкал | M6: тис. грн на рік | N6: грн за 1 Гкал
A7: 1 | B7: 2 | E7: 3 | F7: 4 | G7: 3 | H7: 4 | I7: 5 | J7: 6 | M7: 7 | N7: 8
A8: 1 | B8: Виробнича собівартість, у т.ч.: | C8: 62929.02 | D8: 1405.09 | E8: 74236.266 | F8: 2148.8484 | G8: =G9+G20+G21+G24 -> 91544.44 | H8: =G8/G42*1000 -> 2777.3563 | I8: =I9+I20+I21+I24 -> 28725.57 | J8: =J9+J20+J21+J24 -> 4062.448 | K8: 952.54 | L8: 1405.09 | M8: =M9+M20+M21+M24 -> 3719.15 | N8: =N9+N20+N21+N24 -> 6713.2671 | O8: 98148.494
A9: 1.1 | B9: прямі матеріальні витрати, у т.ч.: | C9: 52895.94 | D9: 1181.07 | E9: 53618.754 | F9: 1552.0524 | G9: =G10+G14+G18+G19 -> 69099.67 | H9: =G9/G42*1000 -> 2096.407 | I9: =I10+I14+I18+I19 -> 23910.57 | J9: =J10+J14+J18+J19 -> 3381.4977 | K9: 800.76 | L9: 1181.07 | M9: =M10+M14+M18+M19 -> 3341.91 | N9: =N10+N14+N18+N19 -> 6032.3285 | O9: 73050.071
A10: 1.1.1 | B10: витрати на паливо для виробництва теплової енергії котельнями | C10: 49725.05 | D10: 1110.27 | E10: 49907.871 | F10: 1444.6369 | G10: 60308.74 | H10: =G10/G42*1000 -> 1829.6999 | I10: 22024.69 | J10: =I10/I42*1000 -> 3114.7914 | K10: 752.76 | L10: 1110.27 | M10: 3194.16 | N10: =M10/M42*1000 -> 5765.6318 | O10: 68319.449
B11: (6235,51) природний газ(/5092,16*4048) | C11: 44371.134 | D11: 990.72678 | E11: 39675.385 | F11: 1148.4466 | G11: 39675.385 | H11: 1148.4466 | I11: 13651.706 | J11: 1949.4082 | K11: 671.71003 | L11: 990.72678 | M11: 984.96171 | N11: 1949.37 | O11: 54312.052
B12: (157,19) транспортування (/5092,16*124,16) | C12: 1118.545 | D12: 24.975077 | E12: 1216.9209 | F12: 35.225082 | G12: 1216.9209 | H12: 35.225082 | I12: 418.72426 | J12: 59.792126 | K12: 16.933033 | L12: 24.975077 | M12: 30.210683 | N12: 59.790339 | O12: 1665.8558
B13: (595,20) розподіл(/5092,16*920) | C13: 4235.3711 | D13: 94.56814 | E13: 9015.5647 | F13: 260.9652 | G13: 9015.5647 | H13: 260.9652 | I13: 3102.1208 | J13: 442.97027 | K13: 64.116938 | L13: 94.56814 | M13: 223.85493 | N13: 443.01408 | O13: 12341.54
A14: 1.1.2 | B14: витрати на електроенергію | C14: 2922.32 | D14: 65.25 | E14: 3494.3465 | F14: 101.14761 | G14: 5472.53 | H14: =G14/G42*1000 -> 166.03046 | I14: 1174 | J14: =I14/I42*1000 -> 166.03026 | K14: 44.24 | L14: 65.25 | M14: 91.98 | N14: =M14/M42*1000 -> 166.02888 | O14: 4253.791
A15: 1.1.3 | B15: собівартість теплової енергії власних ТЕЦ, ТЕС,АЕС, КГУ, у т.ч.: | E15: 0 | F15: 0 | G15: 0 | H15: 0 | I15: 0 | J15: 0 | M15: 0 | N15: 0 | O15: 0
A16: 1.1.3.1 | B16: витрати на паливо у собівартості теплової енергії власних ТЕЦ, ТЕС,АЕС, КГУ | E16: 0 | F16: 0 | G16: 0 | H16: 0 | I16: 0 | J16: 0 | M16: 0 | N16: 0 | O16: 0
A17: 1.1.4 | B17: витрати на покупну теплову енергію, у т.ч.: | E17: 0 | F17: 0 | G17: 0 | H17: 0 | I17: 0 | J17: 0 | M17: 0 | N17: 0 | O17: 0
A18: 1.1.3. | B18: вода для технологічних потреб та водовідведення | C18: 110.79 | D18: 2.47 | E18: 109.42068 | F18: 3.1672992 | G18: 260.83 | H18: =G18/G42*1000 -> 7.9132915 | I18: 55.95 | J18: =I18/I42*1000 -> 7.9126008 | K18: 1.67 | L18: 2.47 | M18: 4.38 | N18: =M18/M42*1000 -> 7.9061372 | O18: 133.20165
A19: 1.1.4. | B19: матеріали, запасні частини та інші матеріальні ресурси | C19: 137.78 | D19: 3.08 | E19: 164.28242 | F19: 4.7553309 | G19: 3057.57 | H19: =G19/G42*1000 -> 92.763266 | I19: 655.93 | J19: =I19/I42*1000 -> 92.7634 | K19: 2.09 | L19: 3.08 | M19: 51.39 | N19: =M19/M42*1000 -> 92.761733 | O19: 413.22
A20: 1.2 | B20: прямі витрати на оплату праці з відрахуваннями на соціальні заходи | C20: 5240.01 | D20: 117 | E20: 8034.102 | F20: 232.55571 | G20: =8595.53 -> 8595.53 | H20: =G20/G42*1000 -> 260.7788 | I20: 1843.97 | J20: =I20/I42*1000 -> 260.77924 | K20: 79.23 | L20: 117 | M20: 144.47 | N20: =M20/M42*1000 -> 260.77617 | O20: 9780.1947
A21: 1.3 | B21: інші прямі витрати, у т.ч.: | C21: 1142.56 | D21: 25.51 | E21: 4176.7628 | F21: 120.90088 | G21: =G22+G23 -> 4314.64 | H21: =G21/G42*1000 -> 130.90137 | I21: =I22+I23 -> 925.61 | J21: =J22+J23 -> 130.90228 | K21: 17.29 | L21: 25.51 | M21: =M22+M23 -> 72.52 | N21: =N22+N23 -> 130.90253 | O21: 5084.5203
A22: 1.3.1 | B22: амортизаційні відрахування | C22: 806.66 | D22: 18.01 | E22: 2947.4759 | F22: 85.317854 | G22: 3099.33 | H22: =G22/G42*1000 -> 94.030218 | I22: 664.89 | J22: =I22/I42*1000 -> 94.030547 | K22: 12.21 | L22: 18.01 | M22: 52.09 | N22: =M22/M42*1000 -> 94.025271 | O22: 3588.0661
A23: 1.3.2 | B23: інші прямі витрати | C23: 335.9 | D23: 7.5 | E23: 1229.287 | F23: 35.58303 | G23: 1215.31 | H23: =G23/G42*1000 -> 36.871151 | I23: 260.72 | J23: =I23/I42*1000 -> 36.87173 | K23: 5.08 | L23: 7.5 | M23: 20.43 | N23: =M23/M42*1000 -> 36.877256 | O23: 1496.4542
A24: 1.4 | B24: загальновиробничі витрати, у т.ч.: | C24: 3650.51 | D24: 81.51 | E24: 8406.6471 | F24: 243.33943 | G24: =G25+G26 -> 9534.6 | H24: =G24/G42*1000 -> 289.26914 | I24: =I25+I26 -> 2045.42 | J24: =J25+J26 -> 289.26884 | K24: 55.26 | L24: 81.51 | M24: =M25+M26 -> 160.25 | N24: =N25+N26 -> 289.25993 | O24: 10233.707
A25: 1.4.1 | B25: витрати на оплату праці з відрахуваннями на соціальні заходи | C25: 3321.11 | D25: 74.15 | E25: 7303.0471 | F25: 211.39454 | G25: 7820.46 | H25: =G25/G42*1000 -> 237.26404 | I25: 1677.69 | J25: =I25/I42*1000 -> 237.26347 | K25: 50.27 | L25: 74.15 | M25: 131.44 | N25: =M25/M42*1000 -> 237.25632 | O25: 8890.256
A26: 1.4.2 | B26: інші витрати | C26: 329.4 | D26: 7.36 | E26: 1103.6 | F26: 31.944888 | G26: 1714.14 | H26: =G26/G42*1000 -> 52.005097 | I26: 367.73 | J26: =I26/I42*1000 -> 52.005374 | K26: 4.99 | L26: 7.36 | M26: 28.81 | N26: =M26/M42*1000 -> 52.00361 | O26: 1343.4511
A27: 2 | B27: Адміністративні витрати, у т.ч.: | C27: 1821.53 | D27: 40.67 | E27: 4089.9807 | F27: 118.38888 | G27: =G28+G29 -> 4615 | H27: =H28+H29 -> 140.01396 | I27: =I28+I29 -> 990.04 | J27: =J28+J29 -> 140.01414 | K27: 27.57 | L27: 40.67 | M27: =M28+M29 -> 77.57 | N27: =N28+N29 -> 140.01805 | O27: 4978.8774
A28: 2.1 | B28: витрати на оплату праці з відрахуваннями на соціальні заходи | C28: 1705.92 | D28: 38.09 | E28: 3425.2107 | F28: 99.146401 | G28: 3844.43 | H28: =G28/G42*1000 -> 116.63572 | I28: 824.73 | J28: =I28/I42*1000 -> 116.63555 | K28: 25.82 | L28: 38.09 | M28: 64.62 | N28: =M28/M42*1000 -> 116.6426 | O28: 4169.6294
A29: 2.2 | B29: інші витрати | C29: 115.61 | D29: 2.58 | E29: 664.77001 | F29: 19.242482 | G29: 770.57 | H29: =G29/G42*1000 -> 23.378235 | I29: 165.31 | J29: =I29/I42*1000 -> 23.378589 | K29: 1.75 | L29: 2.58 | M29: 12.95 | N29: =M29/M42*1000 -> 23.375451 | O29: 809.24791
A30: 3 | B30: Витрати на збут, у т.ч.: | C30: 47.03 | D30: 1.05 | E30: 0 | F30: 0 | G30: 0 | H30: 0 | I30: 0 | J30: 0 | K30: 0.71 | L30: 1.05 | M30: 0 | N30: 0 | O30: 0
A31: 3.1 | B31: витрати на оплату праці з відрахуваннями на соціальні заходи | C31: 44.79 | D31: 1 | E31: 0 | F31: 0 | G31: 0 | H31: 0 | I31: 0 | J31: 0 | K31: 0.68 | L31: 1 | M31: 0 | N31: 0 | O31: 0
A32: 3.2 | B32: інші витрати | C32: 2.24 | D32: 0.05 | E32: 0 | F32: 0 | G32: 0 | H32: 0 | I32: 0 | J32: 0 | K32: 0.03 | L32: 0.05 | M32: 0 | N32: 0 | O32: 0
A33: 4 | B33: Фінансові витрати | E33: 0 | F33: 0 | G33: 0 | H33: 0 | I33: 0 | J33: 0 | M33: 0 | N33: 0 | O33: 0
A34: 5 | B34: Повна собівартість | C34: 64797.58 | D34: 1446.81 | E34: 78326.247 | F34: 2267.2373 | G34: =G8+G27 -> 96159.44 | H34: =G34/G42*1000 -> 2917.3702 | I34: =I8+I27 -> 29715.61 | J34: =J8+J27 -> 4202.4622 | K34: 980.82 | L34: 1446.81 | M34: =M8+M27 -> 3796.72 | N34: =N8+N27 -> 6853.2852 | O34: 103127.37
A35: 6 | B35: Витрати на покриття втрат | E35: 0 | F35: 0 | G35: 0 | H35: 0 | I35: 0 | J35: 0 | M35: 0 | N35: 0 | O35: 0
A36: 7 | B36: Розрахунковий прибуток, у т.ч.: | E36: 0 | F36: 0 | G36: =G37+G38+G39+G40 -> 3909.69 | H36: =G36/G42*1000 -> 118.61564 | I36: =I37+I39+I40 -> 1269.56 | J36: =I36/I42*1000 -> 179.54462 | K36: 98.09 | L36: 144.68 | M36: =M37+M39+M40 -> 169.16 | N36: =N37+N39+N40 -> 305.34296 | O36: 0
A37: 7.1 | B37: податок на прибуток | E37: 0 | F37: 0 | G37: 307.2 | H37: =G37/G42*1000 -> 9.3201056 | I37: 99.69 | J37: =I37/I42*1000 -> 14.09843 | K37: 17.65 | L37: 26.04 | M37: 13.36 | N37: =M37/M42*1000 -> 24.115523 | O37: 0
A38: 7.2 | B38: резервний фонд (капітал) та девіденти | E38: 0 | F38: 0 | G38: 0 | H38: 0 | I38: 0 | J38: 0 | N38: =M38/M42*1000 -> 0 | O38: 0
A39: 7.3 | B39: на розвиток виробництва (виробничі інвестиції) | E39: 0 | F39: 0 | G39: 1706.68 | H39: =G39/G42*1000 -> 51.778769 | I39: 554.23 | J39: =I39/I42*1000 -> 78.38071 | K39: 80.44 | L39: 118.64 | M39: 73.82 | N39: =M39/M42*1000 -> 133.2491 | O39: 0
A40: 7.4 | B40: інше використання прибутку | E40: 0 | F40: 0 | G40: 1895.81 | H40: 0 | I40: 615.64 | J40: =I40/I42*1000 -> 87.065479 | M40: 81.98 | N40: =M40/M42*1000 -> 147.97834 | O40: 0
A41: 8 | B41: Вартість теплової енергії за відповідним тарифом | C41: 64797.58 | D41: 1446.81 | E41: 78326.247 | F41: 2267.2273 | G41: =G34+G36 -> 100069.13 | H41: =G41/G42*1000 -> 3035.9859 | I41: =I34+I36 -> 30985.17 | J41: =J34+J36 -> 4382.0068 | K41: 1078.91 | L41: 1591.49 | M41: =M34+M36 -> 3965.88 | N41: =N34+N36 -> 7158.6282 | O41: 103127.37
...

Sheet Аркуш2

Sheet виробництво
M1: Додаток 2 до рішення виконавчого комітету міської ради
A2: Структура тарифу на виробництво теплової енергії комунального підприємства по експлуатації теплового господарства "Тепловик" Старокостянтинівської міської ради
A4: № з/п | B4: Найменування показників | C4: діючий тариф | E4: плановий тариф | G4: Для потреб населення | I4: Для потреб бюджетних установ | K4: діючий тариф | M4: Для потреб інших споживачів
C5: для потреб населення №355 | E5: Для потреб населення | K5: для потреб інших споживачів №355
C6: тис.грн. на рік | D6: на 1 Гкал | E6: тис.грн. на рік | F6: на 1 Гкал | G6: тис. грн на рік | H6: грн за 1 Гкал | I6: тис. грн на рік | J6: грн за 1 Гкал | K6: тис.грн. на рік | L6: на 1 Гкал | M6: тис. грн на рік | N6: грн за 1 Гкал
A7: 1 | B7: 2 | E7: 3 | F7: 4 | G7: 3 | H7: 4 | I7: 5 | J7: 6 | M7: 7 | N7: 8
A8: 1 | B8: Виробнича собівартість, у т. ч.: | C8: 62929.02 | D8: 1405.09 | E8: 74236.266 | F8: 2148.8484 | G8: =G9+G18+G19+G22 -> 108061.09 | H8: =H9+H18+H19+H22+0.01 -> 2928.2375 | I8: =I9+I18+I19+I22 -> 46574.85 | J8: =J9+J18+J19+J22 -> 4883.1195 | K8: 952.54 | L8: 1405.09 | M8: =M9+M18+M19+M22 -> 3990.16 | N8: =N9+N18+N19+N22+0.01 -> 5719.7475 | O8: =G8+I8+M8 -> 158626.1 | P8: =O8/O40*1000 -> 3365.1064
A9: 1.1 | B9: прямі матеріальні витрати, у т. ч.: | C9: 52895.94 | D9: 1181.07 | E9: 53618.754 | F9: 1552.0524 | G9: =G10+G12+G16+G17+G11 -> 72585.8 | H9: =H10+H12+H16+H17+H11+0.01 -> 1966.9255 | I9: =I10+I12+I16+I17+I11 -> 37405.94 | J9: =J10+J12+J16+J17+J11 -> 3921.8073 | K9: 800.76 | L9: 1181.07 | M9: =M10+M12+M16+M17+M11 -> 3319.54 | N9: =N10+N12+N16+N17+N11-0.01 -> 4758.4367 | O9: =O10+O16+O17+O11+O12 -> 113311.28 | P9: =O9/O40*1000 -> 2403.7943
A10: 1.1.1 | B10: витрати на паливо для виробництва теплової енергії котельнями | C10: 49725.05 | D10: 1110.27 | E10: 49907.871 | F10: 1444.6369 | G10: 48719.17 | H10: =G10/G40*1000-0.01 -> 1320.1857 | I10: 31783.16 | J10: =I10/I40*1000 -> 3332.2982 | K10: 752.76 | L10: 1110.27 | M10: 2839.75 | N10: =M10/M40*1000+0.01 -> 4070.6942 | O10: =G10+I10+M10 -> 83342.08 | P10: =O10/O40*1000 -> 1768.0253
A11: 1.1.2 | B11: собівартість теплової енергії власних когенераційних установок | G11: 5055.92 | H11: =G11/G40*1000 -> 137.0057 | I11: 760.98 | J11: =I11/I40*1000 -> 79.784775 | M11: 124.19 | N11: =M11/M40*1000 -> 178.0221 | O11: =G11+I11+M11 -> 5941.09 | P11: =O11/O40*1000 -> 126.03474
A12: 1.1.3 | B12: витрати на електроенергію | C12: 2922.32 | D12: 65.25 | E12: 3494.3465 | F12: 101.14761 | G12: 13207.19 | H12: =G12/G40*1000 -> 357.88943 | I12: 3413.52 | J12: =I12/I40*1000 -> 357.88973 | K12: 44.24 | L12: 65.25 | M12: 249.67 | N12: =M12/M40*1000 -> 357.89338 | O12: =G12+I12+M12 -> 16870.38 | P12: =O12/O40*1000 -> 357.88955
A13: 1.1.3 | B13: собівартість теплової енергії власних ТЕЦ, ТЕС,АЕС, КГУ, у т.ч.: | E13: 0 | F13: 0 | G13: 0 | H13: 0 | I13: 0 | J13: 0 | M13: 0 | N13: 0 | O13: =G13+I13+M13 -> 0 | P13: =O13/O42*1000 -> #DIV/0!
A14: 1.1.3.1 | B14: витрати на паливо у собівартості теплової енергії власних ТЕЦ, ТЕС,АЕС, КГУ | E14: 0 | F14: 0 | G14: 0 | H14: 0 | I14: 0 | J14: 0 | M14: 0 | N14: 0 | O14: =G14+I14+M14 -> 0 | P14: =O14/O43*1000 -> #DIV/0!
A15: 1.1.4 | B15: витрати на покупну теплову енергію, у т.ч.: | E15: 0 | F15: 0 | G15: 0 | H15: 0 | I15: 0 | J15: 0 | M15: 0 | N15: 0 | O15: =G15+I15+M15 -> 0 | P15: =O15/O44*1000 -> #DIV/0!
A16: 1.1.4 | B16: вода для технологічних потреб та водовідведення | C16: 110.79 | D16: 2.47 | E16: 109.42068 | F16: 3.1672992 | G16: 63.31 | H16: =G16/G40*1000-0.01 -> 1.7055791 | I16: 16.36 | J16: =I16/I40*1000-0.01 -> 1.7052605 | K16: 1.67 | L16: 2.47 | M16: 1.2 | N16: =M16/M40*1000-0.01 -> 1.7101588 | O16: =G16+I16+M16 -> 80.87 | P16: =O16/O40*1000 -> 1.7155824
A17: 1.1.5 | B17: матеріали, запасні частини та інші матеріальні ресурси | C17: 137.78 | D17: 3.08 | E17: 164.28242 | F17: 4.7553309 | G17: 5540.21 | H17: =G17/G40*1000 -> 150.12903 | I17: 1431.92 | J17: =I17/I40*1000 -> 150.12933 | K17: 2.09 | L17: 3.08 | M17: 104.73 | N17: =M17/M40*1000 -> 150.12686 | O17: =G17+I17+M17 -> 7076.86 | P17: =O17/O40*1000 -> 150.12906
A18: 1.2 | B18: прямі витрати на оплату праці з відрахуваннями на соціальні заходи | C18: 5240.01 | D18: 117 | E18: 8034.102 | F18: 232.55571 | G18: 11027.17 | H18: =G18/G40*1000-0.01 -> 298.80508 | I18: 2850.07 | J18: =I18/I40*1000 -> 298.81494 | K18: 79.23 | L18: 117 | M18: 208.46 | N18: =M18/M40*1000-0.01 -> 298.81026 | O18: =G18+I18+M18 -> 14085.7 | P18: =O18/O40*1000 -> 298.81513
A19: 1.3 | B19: інші прямі витрати, у т. ч.: | C19: 1142.56 | D19: 25.51 | E19: 4176.7628 | F19: 120.90088 | G19: =G20+G21 -> 6435.9 | H19: =G19/G40*1000 -> 174.4005 | I19: =I20+I21 -> 1663.42 | J19: =J20+J21 -> 174.40089 | K19: 17.29 | L19: 25.51 | M19: =M20+M21 -> 121.66 | N19: =N20+N21 -> 174.39544 | O19: =G19+I19+M19 -> 8220.98 | P19: =O19/O40*1000 -> 174.40051
A20: 1.3.1 | B20: амортизаційні відрахування | C20: 806.66 | D20: 18.01 | E20: 2947.4759 | F20: 85.317854 | G20: 4849.28 | H20: =G20/G40*1000 -> 131.40615 | I20: 1253.34 | J20: =I20/I40*1000 -> 131.40615 | K20: 12.21 | L20: 18.01 | M20: 91.67 | N20: =M20/M40*1000 -> 131.4058 | O20: =G20+I20+M20 -> 6194.29 | P20: =O20/O40*1000 -> 131.40615
A21: 1.3.2 | B21: інші прямі витрати | C21: 335.9 | D21: 7.5 | E21: 1229.287 | F21: 35.58303 | G21: 1586.62 | H21: =G21/G40*1000 -> 42.994348 | I21: 410.08 | J21: =I21/I40*1000 -> 42.994744 | K21: 5.08 | L21: 7.5 | M21: 29.99 | N21: =M21/M40*1000 -> 42.989636 | O21: =G21+I21+M21 -> 2026.69 | P21: =O21/O40*1000 -> 42.994359
A22: 1.4 | B22: загальновиробничі витрати, у т. ч.: | C22: 3650.51 | D22: 81.51 | E22: 8406.6471 | F22: 243.33943 | G22: =G23+G24 -> 18012.22 | H22: =G22/G40*1000 -> 488.09649 | I22: =I23+I24 -> 4655.42 | J22: =J23+J24 -> 488.09645 | K22: 55.26 | L22: 81.51 | M22: =M23+M24 -> 340.5 | N22: =N23+N24-0.01 -> 488.09507 | O22: =G22+I22+M22 -> 23008.14 | P22: =O22/O40*1000 -> 488.09646
A23: 1.4.1 | B23: витрати на оплату праці з відрахуваннями на соціальні заходи | C23: 3321.11 | D23: 74.15 | E23: 7303.0471 | F23: 211.39454 | G23: 14527.88 | H23: =G23/G40*1000 -> 393.67759 | I23: 3754.86 | J23: =I23/I40*1000 -> 393.67744 | K23: 50.27 | L23: 74.15 | M23: 274.63 | N23: =M23/M40*1000+0.01 -> 393.68268 | O23: =G23+I23+M23 -> 18557.37 | P23: =O23/O40*1000 -> 393.67748
A24: 1.4.2 | B24: інші витрати | C24: 329.4 | D24: 7.36 | E24: 1103.6 | F24: 31.944888 | G24: 3484.34 | H24: =G24/G40*1000 -> 94.418908 | I24: 900.56 | J24: =I24/I40*1000 -> 94.419008 | K24: 4.99 | L24: 7.36 | M24: 65.87 | N24: =M24/M40*1000 -> 94.422385 | O24: =G24+I24+M24 -> 4450.77 | P24: =O24/O40*1000 -> 94.418979
A25: 2 | B25: Адміністративні витрати, у т. ч.: | C25: 1821.53 | D25: 40.67 | E25: 4089.9807 | F25: 118.38888 | G25: =G26+G27 -> 7360.17 | H25: =H26+H27 -> 199.43644 | I25: =I26+I27 -> 1902.3 | J25: =J26+J27 -> 199.43621 | K25: 27.57 | L25: 40.67 | M25: =M26+M27 -> 139.14 | N25: =N26+N27+0.01 -> 199.44242 | O25: =G25+I25+M25 -> 9401.61 | P25: =O25/O40*1000 -> 199.44648
A26: 2.1 | B26: витрати на оплату праці з відрахуваннями на соціальні заходи | C26: 1705.92 | D26: 38.09 | E26: 3425.2107 | F26: 99.146401 | G26: 5974.26 | H26: =G26/G40*1000 -> 161.89095 | I26: 1544.1 | J26: =I26/I40*1000 -> 161.89081 | K26: 25.82 | L26: 38.09 | M26: 112.94 | N26: =M26/M40*1000-0.01 -> 161.88562 | O26: =G26+I26+M26 -> 7631.3 | P26: =O26/O40*1000 -> 161.89099
A27: 2.2 | B27: інші витрати | C27: 115.61 | D27: 2.58 | E27: 664.77001 | F27: 19.242482 | G27: 1385.91 | H27: =G27/G40*1000-0.01 -> 37.545493 | I27: 358.2 | J27: =I27/I40*1000-0.01 -> 37.545397 | K27: 1.75 | L27: 2.58 | M27: 26.2 | N27: =M27/M40*1000-0.01 -> 37.546801 | O27: =G27+I27+M27 -> 1770.31 | P27: =O27/O40*1000 -> 37.555493
A28: 3 | B28: Витрати на збут, у т. ч.: | C28: 47.03 | D28: 1.05 | E28: 0 | F28: 0 | G28: 0 | H28: 0 | I28: 0 | J28: 0 | K28: 0.71 | L28: 1.05 | M28: 0 | N28: 0 | O28: =G28+I28+M28 -> 0 | P28: =O28/O40*1000 -> 0
A29: 3.1 | B29: витрати на оплату праці з відрахуваннями на соціальні заходи | C29: 44.79 | D29: 1 | E29: 0 | F29: 0 | G29: 0 | H29: 0 | I29: 0 | J29: 0 | K29: 0.68 | L29: 1 | M29: 0 | N29: 0 | O29: =G29+I29+M29 -> 0 | P29: =O29/O40*1000 -> 0
A30: 3.2 | B30: інші витрати | C30: 2.24 | D30: 0.05 | E30: 0 | F30: 0 | G30: 0 | H30: 0 | I30: 0 | J30: 0 | K30: 0.03 | L30: 0.05 | M30: 0 | N30: 0 | O30: =G30+I30+M30 -> 0 | P30: =O30/O40*1000 -> 0
A31: 4 | B31: Фінансові витрати | E31: 0 | F31: 0 | G31: 0 | H31: 0 | I31: 0 | J31: 0 | M31: 0 | N31: 0 | O31: =G31+I31+M31 -> 0 | P31: =O31/O40*1000 -> 0
A32: 5 | B32: Повна собівартість | C32: 64797.58 | D32: 1446.81 | E32: 78326.247 | F32: 2267.2373 | G32: =G8+G25 -> 115421.26 | H32: =H8+H25+0.01 -> 3127.684 | I32: =I8+I25 -> 48477.15 | J32: =J8+J25 -> 5082.5557 | K32: 980.82 | L32: 1446.81 | M32: =M8+M25 -> 4129.3 | N32: =N8+N25 -> 5919.1899 | O32: =G32+I32+M32 -> 168027.71 | P32: =O32/O40*1000 -> 3564.5528
A33: 6 | B33: Витрати на покриття втрат | E33: 0 | F33: 0 | G33: 0 | H33: 0 | I33: 0 | J33: 0 | M33: 0 | N33: 0 | O33: =G33+I33+M33 -> 0 | P33: =O33/O40*1000 -> 0
A34: 7 | B34: Розрахунковий прибуток, у т. ч.: | E34: 0 | F34: 0 | G34: =G35+G36+G37+G38 -> 2617.1928 | H34: =H35+H37 -> 70.920887 | I34: =I35+I37+I38 -> 1099.229 | J34: =J37+J35 -> 115.24841 | K34: 98.09 | L34: 144.68 | M34: =M35+M37+M38 -> 93.633 | N34: =N35+N37+N38 -> 134.20789 | O34: =G34+I34+M34 -> 3810.0548 | P34: =O34/O40*1000 -> 80.826797
A35: 7.1 | B35: податок на прибуток | E35: 0 | F35: 0 | G35: =(G37+G38)*0.18 -> 399.2328 | H35: =G35/G40*1000 -> 10.81844 | I35: =I37*0.18 -> 167.679 | J35: =I35/I40*1000 -> 17.580267 | K35: 17.65 | L35: 26.04 | M35: =(M37+M38)*0.18 -> 14.283 | N35: =N37*0.18 -> 20.47239 | O35: =G35+I35+M35 -> 581.1948 | P35: =O35/O40*1000 -> 12.329511
A36: 7.2 | B36: резервний фонд (капітал) та девіденти | E36: 0 | F36: 0 | G36: 0 | H36: 0 | I36: 0 | J36: 0 | N36: =M36/M40*1000 -> 0 | O36: =G36+I36+M36 -> 0 | P36: =O36/O40*1000 -> 0
A37: 7.3 | B37: на розвиток виробництва (виробничі інвестиції) | E37: 0 | F37: 0 | G37: 2217.96 | H37: =G37/G40*1000 -> 60.102447 | I37: 931.55 | J37: =I37/I40*1000 -> 97.668147 | K37: 80.44 | L37: 118.64 | M37: 79.35 | N37: =M37/M40*1000-0.01 -> 113.7355 | O37: =G37+I37+M37 -> 3228.86 | P37: =O37/O40*1000 -> 68.497286
A38: 7.4 | B38: інше використання прибутку | E38: 0 | F38: 0 | G38: 0 | H38: =G38/G40*1000 -> 0 | I38: 0 | J38: =I38/I40*1000 -> 0 | M38: 0 | N38: =M38/M40*1000 -> 0 | O38: =G38+I38+M38 -> 0 | P38: =O38/O40*1000 -> 0
A39: 8 | B39: Вартість теплової енергії за відповідним тарифом | C39: 64797.58 | D39: 1446.81 | E39: 78326.247 | F39: 2267.2273 | G39: =G32+G34 -> 118038.45 | H39: =H32+H34 -> 3198.6049 | I39: =I32+I34 -> 49576.379 | J39: =J32+J34+0.01 -> 5197.8142 | K39: 1078.91 | L39: 1591.49 | M39: =M32+M34 -> 4222.933 | N39: =N32+N34 -> 6053.3978 | O39: =G39+I39+M39 -> 171837.76 | P39: =O39/O40*1000 -> 3645.3796
A40: 9 | B40: Обсяг виробництва теплової енергії власним споживачам, Гкал | C40: 44786.45 | E40: 34547 | F40: 0 | G40: 36902.99 | H40: х | I40: 9537.91 | J40: х | K40: 678 | M40: 697.61 | N40: х | O40: =G40+I40+M40 -> 47138.51
A41: 10 | B41: Тариф на теплову енергію, грн/Гкал, без ПДВ | D41: 1446.81 | E41: 0 | F41: 2267.2273 | G41: х | H41: =H39 -> 3198.6049 | I41: х | J41: =J39 -> 5197.8142 | L41: 1591.49 | M41: х | N41: =N39 -> 6053.3978
...

Sheet транспортування
M1: Додаток 3 до рішення виконавчого комітету міської ради
A2: Структура тарифу на транспортування теплової енергії комунального підприємства по експлуатації теплового господарства "Тепловик" Старокостянтинівської міської ради
A4: № з/п | B4: Найменування показників | C4: діючий тариф | E4: плановий тариф | G4: Для потреб населення | I4: Для потреб бюджетних установ | K4: діючий тариф | M4: Для потреб інших споживачів | O4: середньозважені показники
C5: для потреб населення №355 | E5: Для потреб населення | K5: для потреб інших споживачів №355
C6: тис.грн. на рік | D6: на 1 Гкал | E6: тис.грн. на рік | F6: на 1 Гкал | G6: тис. грн на рік | H6: грн за 1 Гкал | I6: тис. грн на рік | J6: грн за 1 Гкал | K6: тис.грн. на рік | L6: на 1 Гкал | M6: тис. грн на рік | N6: грн за 1 Гкал
A7: 1 | B7: 2 | E7: 3 | F7: 4 | G7: 3 | H7: 4 | I7: 5 | J7: 6 | M7: 7 | N7: 8
A8: 1 | B8: Виробнича собівартість, у т. ч.: | C8: 62929.02 | D8: 1405.09 | E8: 74236.266 | F8: 2148.8484 | G8: =G9+G20+G21+G24 -> 17070.98 | H8: =H9+H20+H21+H24-0.01 -> 542.35632 | I8: =I9+I20+I21+I24 -> 4412.16 | J8: =J9+J20+J21+J24 -> 542.35755 | K8: 952.54 | L8: 1405.09 | M8: =M9+M20+M21+M24 -> 322.7 | N8: =N9+N20+N21+N24-0.01 -> 542.36294 | O8: 98148.494 | P8: =G8+I8+M8 -> 21805.84 | Q8: =G8+I8+M8 -> 21805.84 | R8: =Q8/Q42*1000 -> 542.36637
A9: 1.1 | B9: прямі матеріальні витрати, у т. ч.: | C9: 52895.94 | D9: 1181.07 | E9: 53618.754 | F9: 1552.0524 | G9: =G10+G14+G18+G19 -> 6038.24 | H9: =H14+H18+H19 -> 191.84241 | I9: =I10+I14+I18+I19 -> 1560.64 | J9: =J10+J14+J18+J19 -> 191.84266 | K9: 800.76 | L9: 1181.07 | M9: =M10+M14+M18+M19 -> 114.14 | N9: =N10+N14+N18+N19 -> 191.84193 | O9: 73050.071 | P9: =G9+I9+M9 -> 7713.02 | Q9: =G9+I9+M9 -> 7713.02 | R9: =Q9/Q42*1000 -> 191.84231
A10: 1.1.1 | B10: витрати на паливо для виробництва теплової енергії котельнями | C10: 49725.05 | D10: 1110.27 | E10: 49907.871 | F10: 1444.6369 | G10: 0 | H10: =G10/G42*1000 -> 0 | I10: 0 | J10: =I10/I42*1000 -> 0 | K10: 752.76 | L10: 1110.27 | M10: 0 | N10: 0 | O10: 68319.449 | P10: =G10+I10+M10 -> 0 | Q10: =G10+I10+M10 -> 0 | R10: =Q10/Q42*1000 -> 0
B11: (6235,51) природний газ(/5092,16*4048) | C11: 44371.134 | D11: 990.72678 | E11: 39675.385 | F11: 1148.4466 | G11: 39675.385 | H11: 1148.4466 | I11: 13651.706 | J11: 1949.4082 | K11: 671.71003 | L11: 990.72678 | M11: 984.96171 | N11: 1949.37 | O11: 54312.052 | P11: =G11+I11+M11 -> 54312.052 | Q11: =G11+I11+M11 -> 54312.052 | R11: =Q11/Q45*1000 -> #DIV/0!
B12: (157,19) транспортування (/5092,16*124,16) | C12: 1118.545 | D12: 24.975077 | E12: 1216.9209 | F12: 35.225082 | G12: 1216.9209 | H12: 35.225082 | I12: 418.72426 | J12: 59.792126 | K12: 16.933033 | L12: 24.975077 | M12: 30.210683 | N12: 59.790339 | O12: 1665.8558 | P12: =G12+I12+M12 -> 1665.8558 | Q12: =G12+I12+M12 -> 1665.8558 | R12: =Q12/Q46*1000 -> #DIV/0!
A13: 1.1.2 | B13: собівартість теплової енергії власних когенераційних установок | E13: 0 | F13: 0 | G13: 0 | H13: 0 | I13: 0 | J13: 0 | M13: 0 | N13: 0 | O13: 12341.54 | P13: =G13+I13+M13 -> 0 | Q13: =G13+I13+M13 -> 0 | R13: =Q13/Q47*1000 -> #DIV/0!
A14: 1.1.3 | B14: витрати на електроенергію | C14: 2922.32 | D14: 65.25 | E14: 3494.3465 | F14: 101.14761 | G14: 4415.67 | H14: =G14/G42*1000 -> 140.29134 | I14: 1141.27 | J14: =I14/I42*1000 -> 140.29133 | K14: 44.24 | L14: 65.25 | M14: 83.47 | N14: =M14/M42*1000 -> 140.28571 | O14: 4253.791 | P14: =G14+I14+M14 -> 5640.41 | Q14: =G14+I14+M14 -> 5640.41 | R14: =Q14/Q42*1000 -> 140.29126
A15: 1.1.3 | B15: собівартість теплової енергії власних ТЕЦ, ТЕС,АЕС, КГУ, у т.ч.: | E15: 0 | F15: 0 | G15: 0 | H15: 0 | I15: 0 | J15: 0 | M15: 0 | N15: 0 | O15: 0 | P15: =G15+I15+M15 -> 0 | Q15: =G15+I15+M15 -> 0 | R15: =Q15/Q49*1000 -> #DIV/0!
A16: 1.1.3.1 | B16: витрати на паливо у собівартості теплової енергії власних ТЕЦ, ТЕС,АЕС, КГУ | E16: 0 | F16: 0 | G16: 0 | H16: 0 | I16: 0 | J16: 0 | M16: 0 | N16: 0 | O16: 0 | P16: =G16+I16+M16 -> 0 | Q16: =G16+I16+M16 -> 0 | R16: =Q16/Q50*1000 -> #DIV/0!
A17: 1.1.3 | B17: собівартість теплової енергії власних КГУ | E17: 0 | F17: 0 | G17: 0 | H17: 0 | I17: 0 | J17: 0 | M17: 0 | N17: 0 | O17: 0 | P17: =G17+I17+M17 -> 0 | Q17: =G17+I17+M17 -> 0 | R17: =Q17/Q51*1000 -> #DIV/0!
A18: 1.1.4 | B18: вода для технологічних потреб та водовідведення | C18: 110.79 | D18: 2.47 | E18: 109.42068 | F18: 3.1672992 | G18: 611.19 | H18: =G18/G42*1000 -> 19.418268 | I18: 157.97 | J18: =I18/I42*1000 -> 19.418562 | K18: 1.67 | L18: 2.47 | M18: 11.55 | N18: =M18/M42*1000+0.01 -> 19.421765 | O18: 133.20165 | P18: =G18+I18+M18 -> 780.71 | Q18: =G18+I18+M18 -> 780.71 | R18: =Q18/Q42*1000 -> 19.418232
A19: 1.1.5 | B19: матеріали, запасні частини та інші матеріальні ресурси | C19: 137.78 | D19: 3.08 | E19: 164.28242 | F19: 4.7553309 | G19: 1011.38 | H19: =G19/G42*1000 -> 32.132804 | I19: 261.4 | J19: =I19/I42*1000 -> 32.13276 | K19: 2.09 | L19: 3.08 | M19: 19.12 | N19: =M19/M42*1000 -> 32.134454 | O19: 413.22 | P19: =G19+I19+M19 -> 1291.9 | Q19: =G19+I19+M19 -> 1291.9 | R19: =Q19/Q42*1000 -> 32.132819
A20: 1.2 | B20: прямі витрати на оплату праці з відрахуваннями на соціальні заходи | C20: 5240.01 | D20: 117 | E20: 8034.102 | F20: 232.55571 | G20: 1258.52 | H20: =G20/G42*1000 -> 39.98475 | I20: 325.28 | J20: =I20/I42*1000-0.01 -> 39.975249 | K20: 79.23 | L20: 117 | M20: 23.79 | N20: =M20/M42*1000 -> 39.983193 | O20: 9780.1947 | P20: =G20+I20+M20 -> 1607.59 | Q20: =G20+I20+M20 -> 1607.59 | R20: =Q20/Q42*1000 -> 39.984828
A21: 1.3 | B21: інші прямі витрати, у т. ч.: | C21: 1142.56 | D21: 25.51 | E21: 4176.7628 | F21: 120.90088 | G21: =G22+G23 -> 1814.86 | H21: =H22+H23 -> 57.660365 | I21: =I22+I23 -> 469.07 | J21: =J22+J23 -> 57.660725 | K21: 17.29 | L21: 25.51 | M21: =M22+M23 -> 34.31 | N21: =N22+N23+0.01 -> 57.663866 | O21: 5084.5203 | P21: =G21+I21+M21 -> 2318.24 | Q21: =G21+I21+M21 -> 2318.24 | R21: =Q21/Q42*1000 -> 57.66049
A22: 1.3.1 | B22: амортизаційні відрахування | C22: 806.66 | D22: 18.01 | E22: 2947.4759 | F22: 85.317854 | G22: 1756.04 | H22: =G22/G42*1000 -> 55.791581 | I22: 453.87 | J22: =I22/I42*1000 -> 55.792256 | K22: 12.21 | L22: 18.01 | M22: 33.2 | N22: =M22/M42*1000-0.01 -> 55.788319 | O22: 3588.0661 | P22: =G22+I22+M22 -> 2243.11 | Q22: =G22+I22+M22 -> 2243.11 | R22: =Q22/Q42*1000 -> 55.791817
A23: 1.3.2 | B23: інші прямі витрати | C23: 335.9 | D23: 7.5 | E23: 1229.287 | F23: 35.58303 | G23: 58.82 | H23: =G23/G42*1000 -> 1.8687847 | I23: 15.2 | J23: =I23/I42*1000 -> 1.8684696 | K23: 5.08 | L23: 7.5 | M23: 1.11 | N23: =M23/M42*1000 -> 1.8655462 | O23: 1496.4542 | P23: =G23+I23+M23 -> 75.13 | Q23: =G23+I23+M23 -> 75.13 | R23: =Q23/Q42*1000 -> 1.8686731
A24: 1.4 | B24: загальновиробничі витрати, у т. ч.: | C24: 3650.51 | D24: 81.51 | E24: 8406.6471 | F24: 243.33943 | G24: =G25+G26 -> 7959.36 | H24: =H25+H26 -> 252.87879 | I24: =I25+I26 -> 2057.17 | J24: =J25+J26 -> 252.87892 | K24: 55.26 | L24: 81.51 | M24: =M25+M26 -> 150.46 | N24: =N25+N26 -> 252.88395 | O24: 10233.707 | P24: =G24+I24+M24 -> 10166.99 | Q24: =G24+I24+M24 -> 10166.99 | R24: =Q24/Q42*1000 -> 252.87875
A25: 1.4.1 | B25: витрати на оплату праці з відрахуваннями на соціальні заходи | C25: 3321.11 | D25: 74.15 | E25: 7303.0471 | F25: 211.39454 | G25: 6420.82 | H25: =G25/G42*1000 -> 203.99746 | I25: 1659.52 | J25: =I25/I42*1000 -> 203.99754 | K25: 50.27 | L25: 74.15 | M25: 121.38 | N25: =M25/M42*1000 -> 204 | O25: 8890.256 | P25: =G25+I25+M25 -> 8201.72 | Q25: =G25+I25+M25 -> 8201.72 | R25: =Q25/Q42*1000 -> 203.99751
A26: 1.4.2 | B26: інші витрати | C26: 329.4 | D26: 7.36 | E26: 1103.6 | F26: 31.944888 | G26: 1538.54 | H26: =G26/G42*1000 -> 48.881334 | I26: 397.65 | J26: =I26/I42*1000 -> 48.881377 | K26: 4.99 | L26: 7.36 | M26: 29.08 | N26: =M26/M42*1000+0.01 -> 48.88395 | O26: 1343.4511 | P26: =G26+I26+M26 -> 1965.27 | Q26: =G26+I26+M26 -> 1965.27 | R26: =Q26/Q42*1000 -> 48.881234
A27: 2 | B27: Адміністративні витрати, у т. ч.: | C27: 1821.53 | D27: 40.67 | E27: 4089.9807 | F27: 118.38888 | G27: =G28+G29 -> 3245.91 | H27: =H28+H29 -> 103.12661 | I27: =I28+I29 -> 838.94 | J27: =J28+J29 -> 103.12723 | K27: 27.57 | L27: 40.67 | M27: =M28+M29 -> 61.36 | N27: =N28+N29-0.01 -> 103.12605 | O27: 4978.8774 | P27: =G27+I27+M27 -> 4146.21 | Q27: =G27+I27+M27 -> 4146.21 | R27: =Q27/Q42*1000 -> 103.12673
A28: 2.1 | B28: витрати на оплату праці з відрахуваннями на соціальні заходи | C28: 1705.92 | D28: 38.09 | E28: 3425.2107 | F28: 99.146401 | G28: 2640.33 | H28: =G28/G42*1000 -> 83.886577 | I28: 682.42 | J28: =I28/I42*1000 -> 83.886908 | K28: 25.82 | L28: 38.09 | M28: 49.91 | N28: =M28/M42*1000+0.01 -> 83.892353 | O28: 4169.6294 | P28: =G28+I28+M28 -> 3372.66 | Q28: =G28+I28+M28 -> 3372.66 | R28: =Q28/Q42*1000 -> 83.886581
A29: 2.2 | B29: інші витрати | C29: 115.61 | D29: 2.58 | E29: 664.77001 | F29: 19.242482 | G29: 605.58 | H29: =G29/G42*1000 -> 19.240032 | I29: 156.52 | J29: =I29/I42*1000 -> 19.24032 | K29: 1.75 | L29: 2.58 | M29: 11.45 | N29: =M29/M42*1000 -> 19.243697 | O29: 809.24791 | P29: =G29+I29+M29 -> 773.55 | Q29: =G29+I29+M29 -> 773.55 | R29: =Q29/Q42*1000 -> 19.240144
A30: 3 | B30: Витрати на збут, у т. ч.: | C30: 47.03 | D30: 1.05 | E30: 0 | F30: 0 | H30: =H32 -> 0 | I30: 0 | J30: =J32 -> 0 | K30: 0.71 | L30: 1.05 | M30: 0 | N30: 0 | O30: 0 | P30: =G30+I30+M30 -> 0 | Q30: =G30+I30+M30 -> 0 | R30: =Q30/Q42*1000 -> 0
A31: 3.1 | B31: витрати на оплату праці з відрахуваннями на соціальні заходи | C31: 44.79 | D31: 1 | E31: 0 | F31: 0 | G31: =G33 -> 0 | H31: =H33 -> 0 | I31: 0 | J31: 0 | K31: 0.68 | L31: 1 | M31: 0 | N31: 0 | O31: 0 | P31: =G31+I31+M31 -> 0 | Q31: =G31+I31+M31 -> 0 | R31: =Q31/Q42*1000 -> 0
A32: 3.2 | B32: інші витрати | C32: 2.24 | D32: 0.05 | E32: 0 | F32: 0 | H32: =G32/G42*1000 -> 0 | I32: 0 | J32: =I32/I42*1000 -> 0 | K32: 0.03 | L32: 0.05 | M32: 0 | N32: 0 | O32: 0 | P32: =G32+I32+M32 -> 0 | Q32: =G32+I32+M32 -> 0 | R32: =Q32/Q42*1000 -> 0
A33: 4 | B33: Фінансові витрати | E33: 0 | F33: 0 | G33: 0 | H33: =G33/G42*1000 -> 0 | I33: 0 | J33: 0 | M33: 0 | N33: 0 | O33: 0 | P33: =G33+I33+M33 -> 0 | Q33: =G33+I33+M33 -> 0 | R33: =Q33/Q42*1000 -> 0
A34: 5 | B34: Повна собівартість | C34: 64797.58 | D34: 1446.81 | E34: 78326.247 | F34: 2267.2373 | G34: =G8+G27+G30 -> 20316.89 | H34: =H8+H27+H30+0.01 -> 645.49293 | I34: =I8+I27+I30 -> 5251.1 | J34: =J8+J27+J30+0.01 -> 645.49478 | K34: 980.82 | L34: 1446.81 | M34: =M8+M27+M30 -> 384.06 | N34: =N8+N27+N30 -> 645.48899 | O34: 103127.37 | P34: =G34+I34+M34 -> 25952.05 | Q34: =G34+I34+M34 -> 25952.05 | R34: =Q34/Q42*1000 -> 645.4931
A35: 6 | B35: Витрати на покриття втрат | E35: 0 | F35: 0 | G35: 0 | H35: 0 | I35: 0 | J35: 0 | M35: 0 | N35: 0 | O35: 0 | P35: =G35+I35+M35 -> 0 | Q35: =G35+I35+M35 -> 0 | R35: =Q35/Q42*1000 -> 0
A36: 7 | B36: Розрахунковий прибуток, у т. ч.: | E36: 0 | F36: 0 | G36: =G37+G39 -> 1876.7 | H36: =G36/G42*1000 -> 59.625099 | I36: =I37+I39 -> 485.0508 | J36: =I36/I42*1000 -> 59.625175 | K36: =K37+K39 -> 2191.791 | L36: =K36/K42*1000 -> 3232.7301 | M36: =M39+M37 -> 35.4826 | N36: =M36/M42*1000 -> 59.634622 | O36: 0 | P36: =G36+I36+M36 -> 2397.2334 | Q36: =G36+I36+M36 -> 2397.2334 | R36: =Q36/Q42*1000 -> 59.625256
A37: 7.1 | B37: податок на прибуток | E37: 0 | F37: 0 | G37: 286.28 | H37: =G37/G42*1000 -> 9.0954726 | I37: =I39*0.18 -> 73.9908 | J37: =I37/I42*1000 -> 9.0953657 | K37: =K39*0.18 -> 334.341 | L37: =K37/K42*1000 -> 493.12832 | M37: =M39*0.18 -> 5.4126 | N37: =M37/M42*1000 -> 9.0968067 | O37: 0 | P37: =G37+I37+M37 -> 365.6834 | Q37: =G37+I37+M37 -> 365.6834 | R37: =Q37/Q42*1000 -> 9.0954707
A38: 7.2 | B38: резервний фонд (капітал) та девіденти | E38: 0 | F38: 0 | G38: 0 | H38: 0 | I38: 0 | J38: 0 | K38: 0 | L38: 0 | M38: 0 | N38: 0 | O38: 0 | P38: =G38+I38+M38 -> 0 | Q38: =G38+I38+M38 -> 0 | R38: =Q38/Q42*1000 -> 0
A39: 7.3 | B39: на розвиток виробництва (виробничі інвестиції) | E39: 0 | F39: 0 | G39: 1590.42 | H39: =G39/G42*1000 -> 50.529627 | I39: 411.06 | J39: =I39/I42*1000 -> 50.529809 | K39: 1857.45 | L39: =K39/K42*1000 -> 2739.6018 | M39: 30.07 | N39: =M39/M42*1000-0.01 -> 50.527815 | O39: 0 | P39: =G39+I39+M39 -> 2031.55 | Q39: =G39+I39+M39 -> 2031.55 | R39: =Q39/Q42*1000 -> 50.529785
A40: 7.4 | B40: інше використання прибутку | E40: 0 | F40: 0 | G40: 0 | H40: 0 | I40: 0 | J40: =I40/I42*1000 -> 0 | M40: 0 | N40: =M40/M42*1000 -> 0 | O40: 0 | P40: =G40+I40+M40 -> 0 | Q40: =G40+I40+M40 -> 0 | R40: =Q40/Q42*1000 -> 0
A41: 8 | B41: Вартість теплової енергії за відповідним тарифом | C41: 64797.58 | D41: 1446.81 | E41: 78326.247 | F41: 2267.2273 | G41: =G34+G36 -> 22193.59 | H41: =H34+H36 -> 705.11803 | I41: =I34+I36 -> 5736.1508 | J41: =J34+J36 -> 705.11995 | K41: 1078.91 | L41: 1591.49 | M41: =M34+M36 -> 419.5426 | N41: =N34+N36 -> 705.12361 | O41: 103127.37 | P41: =G41+I41+M41 -> 28349.283 | Q41: =G41+I41+M41 -> 28349.283 | R41: =Q41/Q42*1000 -> 705.11835
...

Sheet постачання
M1: Додаток 4 до рішення виконавчого комітету міської ради
A2: Структура тарифу на постачання теплової енергії комунального підприємства по експлуатації теплового господарства "Тепловик" Старокостянтинівської міської ради
A4: № з/п | B4: Найменування показників | C4: діючий тариф | E4: плановий тариф | G4: Для потреб населення | I4: Для потреб бюджетних установ | K4: діючий тариф | M4: Для потреб інших споживачів | O4: середньозважені показники
C5: для потреб населення №355 | E5: Для потреб населення | K5: для потреб інших споживачів №355
C6: тис.грн. на рік | D6: на 1 Гкал | E6: тис.грн. на рік | F6: на 1 Гкал | G6: тис. грн на рік | H6: грн за 1 Гкал | I6: тис. грн на рік | J6: грн за 1 Гкал | K6: тис.грн. на рік | L6: на 1 Гкал | M6: тис. грн на рік | N6: грн за 1 Гкал
A7: 1 | B7: 2 | E7: 3 | F7: 4 | G7: 3 | H7: 4 | I7: 5 | J7: 6 | M7: 7 | N7: 8
A8: 1 | B8: Виробнича собівартість, у т. ч.: | C8: 62929.02 | D8: 1405.09 | E8: 74236.266 | F8: 2148.8484 | G8: =G9+G20+G21+G24 -> 3131.86 | H8: =H9+H20+H21+H24 -> 99.503098 | I8: =I9+I20+I21+I24 -> 809.45 | J8: =J9+J20+J21+J24 -> 99.502151 | K8: 952.54 | L8: 1405.09 | M8: =M9+M20+M21+M24 -> 59.21 | N8: =N9+N20+N21+N24+0.01 -> 99.502605 | O8: 98148.494 | P8: =G8+I8+M8 -> 4000.52 | Q8: =P8/P42*1000 -> 99.503047 | R8: =G8+I8+M8 -> 4000.52 | S8: =R8/R42*1000 -> 99.503047
A9: 1.1 | B9: прямі матеріальні витрати, у т. ч.: | C9: 52895.94 | D9: 1181.07 | E9: 53618.754 | F9: 1552.0524 | G9: =G19 -> 75.23 | H9: =H19 -> 2.3901509 | I9: =I10+I14+I18+I19 -> 19.44 | J9: =J10+J14+J18+J19 -> 2.3896742 | K9: 800.76 | L9: 1181.07 | M9: =M10+M14+M18+M19 -> 1.42 | N9: =N10+N14+N18+N19 -> 2.3865546 | O9: 73050.071 | P9: =G9+I9+M9 -> 96.09 | Q9: =P9/P43*1000 -> #DIV/0! | R9: =G9+I9+M9 -> 96.09 | S9: =R9/R42*1000 -> 2.3900012
A10: 1.1.1 | B10: витрати на паливо для виробництва теплової енергії котельнями | C10: 49725.05 | D10: 1110.27 | E10: 49907.871 | F10: 1444.6369 | G10: 0 | H10: =G10/G42*1000 -> 0 | I10: 0 | J10: =I10/I42*1000 -> 0 | K10: 752.76 | L10: 1110.27 | M10: 0 | N10: 0 | O10: 68319.449 | P10: =G10+I10+M10 -> 0 | Q10: =P10/P44*1000 -> #DIV/0! | R10: =G10+I10+M10 -> 0 | S10: =R10/R42*1000 -> 0
B11: (6235,51) природний газ(/5092,16*4048) | C11: 44371.134 | D11: 990.72678 | E11: 39675.385 | F11: 1148.4466 | G11: 39675.385 | H11: 1148.4466 | I11: 13651.706 | J11: 1949.4082 | K11: 671.71003 | L11: 990.72678 | M11: 984.96171 | N11: 1949.37 | O11: 54312.052 | P11: =G11+I11+M11 -> 54312.052 | Q11: =P11/P45*1000 -> #DIV/0! | R11: =G11+I11+M11 -> 54312.052 | S11: =R11/R45*1000 -> #DIV/0!
B12: (157,19) транспортування (/5092,16*124,16) | C12: 1118.545 | D12: 24.975077 | E12: 1216.9209 | F12: 35.225082 | G12: 1216.9209 | H12: 35.225082 | I12: 418.72426 | J12: 59.792126 | K12: 16.933033 | L12: 24.975077 | M12: 30.210683 | N12: 59.790339 | O12: 1665.8558 | P12: =G12+I12+M12 -> 1665.8558 | Q12: =P12/P46*1000 -> #DIV/0! | R12: =G12+I12+M12 -> 1665.8558 | S12: =R12/R46*1000 -> #DIV/0!
A13: 1.1.2 | B13: собівартість теплової енергії власних когенераційних установок | C13: 4235.3711 | D13: 94.56814 | E13: 9015.5647 | F13: 260.9652 | G13: 0 | H13: 0 | I13: 0 | J13: 0 | K13: 64.116938 | L13: 94.56814 | M13: 0 | N13: 0 | O13: 12341.54 | P13: =G13+I13+M13 -> 0 | Q13: =P13/P47*1000 -> #DIV/0! | R13: =G13+I13+M13 -> 0 | S13: =R13/R47*1000 -> #DIV/0!
A14: 1.1.3 | B14: витрати на електроенергію | C14: 2922.32 | D14: 65.25 | E14: 3494.3465 | F14: 101.14761 | G14: 0 | H14: =G14/G42*1000 -> 0 | I14: 0 | J14: =I14/I42*1000 -> 0 | K14: 44.24 | L14: 65.25 | M14: 0 | N14: =M14/M42*1000 -> 0 | O14: 4253.791 | P14: =G14+I14+M14 -> 0 | Q14: =P14/P48*1000 -> #DIV/0! | R14: =G14+I14+M14 -> 0 | S14: =R14/R42*1000 -> 0
A15: 1.1.3 | B15: собівартість теплової енергії власних ТЕЦ, ТЕС,АЕС, КГУ, у т.ч.: | E15: 0 | F15: 0 | G15: 0 | H15: 0 | I15: 0 | J15: 0 | M15: 0 | N15: 0 | O15: 0 | P15: =G15+I15+M15 -> 0 | Q15: =P15/P49*1000 -> #DIV/0! | R15: =G15+I15+M15 -> 0 | S15: =R15/R49*1000 -> #DIV/0!
A16: 1.1.3.1 | B16: витрати на паливо у собівартості теплової енергії власних ТЕЦ, ТЕС,АЕС, КГУ | E16: 0 | F16: 0 | G16: 0 | H16: 0 | I16: 0 | J16: 0 | M16: 0 | N16: 0 | O16: 0 | P16: =G16+I16+M16 -> 0 | Q16: =P16/P50*1000 -> #DIV/0! | R16: =G16+I16+M16 -> 0 | S16: =R16/R50*1000 -> #DIV/0!
A17: 1.1.4 | B17: витрати на покупну теплову енергію, у т.ч.: | E17: 0 | F17: 0 | G17: 0 | H17: 0 | I17: 0 | J17: 0 | M17: 0 | N17: 0 | O17: 0 | P17: =G17+I17+M17 -> 0 | Q17: =P17/P51*1000 -> #DIV/0! | R17: =G17+I17+M17 -> 0 | S17: =R17/R51*1000 -> #DIV/0!
A18: 1.1.4 | B18: вода для технологічних потреб та водовідведення | C18: 110.79 | D18: 2.47 | E18: 109.42068 | F18: 3.1672992 | G18: 0 | H18: =G18/G42*1000 -> 0 | I18: 0 | J18: =I18/I42*1000 -> 0 | K18: 1.67 | L18: 2.47 | M18: 0 | N18: =M18/M42*1000 -> 0 | O18: 133.20165 | P18: =G18+I18+M18 -> 0 | Q18: =P18/P52*1000 -> #DIV/0! | R18: =G18+I18+M18 -> 0 | S18: =R18/R42*1000 -> 0
A19: 1.1.5 | B19: матеріали, запасні частини та інші матеріальні ресурси | C19: 137.78 | D19: 3.08 | E19: 164.28242 | F19: 4.7553309 | G19: 75.23 | H19: =G19/G42*1000 -> 2.3901509 | I19: 19.44 | J19: =I19/I42*1000 -> 2.3896742 | K19: 2.09 | L19: 3.08 | M19: 1.42 | N19: =M19/M42*1000 -> 2.3865546 | O19: 413.22 | P19: =G19+I19+M19 -> 96.09 | Q19: =P19/P53*1000 -> #DIV/0! | R19: =G19+I19+M19 -> 96.09 | S19: =R19/R42*1000 -> 2.3900012
A20: 1.2 | B20: прямі витрати на оплату праці з відрахуваннями на соціальні заходи | C20: 5240.01 | D20: 117 | E20: 8034.102 | F20: 232.55571 | G20: 1911.31 | H20: =G20/G42*1000 -> 60.724702 | I20: 494 | J20: =I20/I42*1000-0.01 -> 60.715261 | K20: 79.23 | L20: 117 | M20: 36.13 | N20: =M20/M42*1000 -> 60.722689 | O20: 9780.1947 | P20: =G20+I20+M20 -> 2441.44 | Q20: =P20/P54*1000 -> #DIV/0! | R20: =G20+I20+M20 -> 2441.44 | S20: =R20/R42*1000 -> 60.724785
A21: 1.3 | B21: інші прямі витрати, у т. ч.: | C21: 1142.56 | D21: 25.51 | E21: 4176.7628 | F21: 120.90088 | G21: =G22+G23 -> 459.7 | H21: =G21/G42*1000 -> 14.605242 | I21: =I22+I23 -> 118.8 | J21: =J22+J23+0.01 -> 14.613565 | K21: 17.29 | L21: 25.51 | M21: =M22+M23 -> 8.69 | N21: =N22+N23-0.01 -> 14.605042 | O21: 5084.5203 | P21: =G21+I21+M21 -> 587.19 | Q21: =P21/P55*1000 -> #DIV/0! | R21: =G21+I21+M21 -> 587.19 | S21: =R21/R42*1000 -> 14.6049
A22: 1.3.1 | B22: амортизаційні відрахування | C22: 806.66 | D22: 18.01 | E22: 2947.4759 | F22: 85.317854 | G22: 435.25 | H22: =G22/G42*1000 -> 13.828435 | I22: 112.49 | J22: =I22/I42*1000 -> 13.827904 | K22: 12.21 | L22: 18.01 | M22: 8.23 | N22: =M22/M42*1000 -> 13.831933 | O22: 3588.0661 | P22: =G22+I22+M22 -> 555.97 | Q22: =P22/P56*1000 -> #DIV/0! | R22: =G22+I22+M22 -> 555.97 | S22: =R22/R42*1000 -> 13.82838
A23: 1.3.2 | B23: інші прямі витрати | C23: 335.9 | D23: 7.5 | E23: 1229.287 | F23: 35.58303 | G23: 24.45 | H23: =G23/G42*1000 -> 0.77680699 | I23: 6.31 | J23: =I23/I42*1000 -> 0.77566073 | K23: 5.08 | L23: 7.5 | M23: 0.46 | N23: =M23/M42*1000+0.01 -> 0.78310924 | O23: 1496.4542 | P23: =G23+I23+M23 -> 31.22 | Q23: =P23/P57*1000 -> #DIV/0! | R23: =G23+I23+M23 -> 31.22 | S23: =R23/R42*1000 -> 0.77652033
A24: 1.4 | B24: загальновиробничі витрати, у т. ч.: | C24: 3650.51 | D24: 81.51 | E24: 8406.6471 | F24: 243.33943 | G24: =G25+G26 -> 685.62 | H24: =H25+H26 -> 21.783002 | I24: =I25+I26 -> 177.21 | J24: =J25+J26 -> 21.783651 | K24: 55.26 | L24: 81.51 | M24: =M25+M26 -> 12.97 | N24: =N25+N26 -> 21.778319 | O24: 10233.707 | P24: =G24+I24+M24 -> 875.8 | Q24: =P24/P58*1000 -> #DIV/0! | R24: =G24+I24+M24 -> 875.8 | S24: =R24/R42*1000 -> 21.78336
A25: 1.4.1 | B25: витрати на оплату праці з відрахуваннями на соціальні заходи | C25: 3321.11 | D25: 74.15 | E25: 7303.0471 | F25: 211.39454 | G25: 553.07 | H25: =G25/G42*1000 -> 17.571724 | I25: 142.95 | J25: =I25/I42*1000 -> 17.572219 | K25: 50.27 | L25: 74.15 | M25: 10.46 | N25: =M25/M42*1000-0.01 -> 17.569832 | O25: 8890.256 | P25: =G25+I25+M25 -> 706.48 | Q25: =P25/P59*1000 -> #DIV/0! | R25: =G25+I25+M25 -> 706.48 | S25: =R25/R42*1000 -> 17.571944
A26: 1.4.2 | B26: інші витрати | C26: 329.4 | D26: 7.36 | E26: 1103.6 | F26: 31.944888 | G26: 132.55 | H26: =G26/G42*1000 -> 4.2112788 | I26: 34.26 | J26: =I26/I42*1000 -> 4.2114321 | K26: 4.99 | L26: 7.36 | M26: 2.51 | N26: =M26/M42*1000-0.01 -> 4.2084874 | O26: 1343.4511 | P26: =G26+I26+M26 -> 169.32 | Q26: =P26/P60*1000 -> #DIV/0! | R26: =G26+I26+M26 -> 169.32 | S26: =R26/R42*1000 -> 4.2114165
A27: 2 | B27: Адміністративні витрати, у т. ч.: | C27: 1821.53 | D27: 40.67 | E27: 4089.9807 | F27: 118.38888 | G27: =G28+G29 -> 286.94 | H27: =H28+H29 -> 9.1164416 | I27: =I28+I29 -> 74.16 | J27: =J28+J29 -> 9.1161647 | K27: 27.57 | L27: 40.67 | M27: =M28+M29 -> 5.42 | N27: =N28+N29+0.01 -> 9.1292437 | O27: 4978.8774 | P27: =G27+I27+M27 -> 366.52 | Q27: =P27/P61*1000 -> #DIV/0! | R27: =G27+I27+M27 -> 366.52 | S27: =R27/R42*1000 -> 9.1162791
