Workbook

Sheet Вироб ТЕ
N1: Додаток 3
N2: до Порядку розгляду органами місцевого самоврядування розрахунків тарифів на теплову енергію, її виробництво, транспортування та постачання, а також розрахунків тарифів на комунальні послуги, поданих для їх встановлення (підпункт 1 пункту 3 розділу ІІ)
A4: Розрахунок тарифів на виробництво теплової енергії КП "Тепловик" на період з 01.10.2021р. по 30.09.2022р.
S5: без ПДВ
A6: N з/п | B6: Показники | C6: Од. виміру | D6: Сумарні та середньозважені показники | H6: Виробництво теплової енергії для потреб населення | L6: Виробництво теплової енергії для потреб бюджетних установ | P6: Виробництво теплової енергії для потреб інших споживачів
D7: Період, попередній базовому (факт 2019 р.) | E7: Базовий перід (факт 2020 р.) | F7: Передба-чено діючим тарифом | G7: Плановий період з 01.10.2021р. по 30.09.2022р. | H7: Період, попередній базовому (факт 2019 р.) | I7: Базовий перід (факт 2020 р.) | J7: Передба-чено діючим тарифом | K7: Плановий період з 01.10.2021р. по 30.09.2022р. | L7: Період, попередній базовому (факт 2019.) | M7: Базовий перід (факт 2020 р.) | N7: Передба-чено діючим тарифом | O7: Плановий період з 01.10.2021р. по 30.09.2022р. | P7: Період, попередній базовому (факт 2019 р.) | Q7: Базовий перід (факт 2020 р.) | R7: Передба-чено діючим тарифом | S7: Плановий період з 01.10.2021р. по 30.09.2022р.
A8: 1 | B8: 2 | C8: 3 | D8: 4 | E8: 5 | F8: 6 | G8: 7 | H8: 8 | I8: 9 | J8: 10 | K8: 11 | L8: 12 | M8: 13 | N8: 14 | O8: 15 | P8: 16 | Q8: 17 | R8: 18 | S8: 19
A9: 1 | B9: Виробнича собівартість, у т. ч.: | C9: тис. грн | D9: 61870.063 | E9: 57074.88 | F9: х | G9: 87459.111 | H9: 46091.872 | I9: 43135.112 | J9: х | K9: 65455.926 | L9: 7085.5793 | M9: 6522.4597 | N9: х | O9: 20523.172 | P9: 466.96163 | Q9: 946.33718 | R9: х | S9: 1480.7747
A10: 1.1 | B10: прямі матеріальні витрати, у т. ч.: | C10: тис. грн | D10: 50259.03 | E10: 46932.5 | F10: х | G10: 70107.393 | H10: 36111.351 | I10: 34386.17 | J10: х | K10: 51202.071 | L10: 5913.9094 | M10: 5379.6252 | N10: х | O10: 17633.782 | P10: 216.9501 | Q10: 682.51487 | R10: х | S10: 1272.3047
A11: 1.1.1 | B11: паливо | C11: тис. грн | D11: 39683.4 | E11: 37947.7 | F11: х | G11: 68318.684 | H11: 33929.307 | I11: 32255.545 | J11: х | K11: 49907.871 | L11: 5555.676 | M11: 5047.0441 | N11: х | O11: 17172.551 | P11: 198.417 | Q11: 645.1109 | R11: х | S11: 1239.0273
A12: 1.1.2 | B12: електроенергія | C12: тис. грн | D12: 1411 | E12: 1479.33 | F12: х | G12: 1493.7104 | H12: 1206.405 | I12: 1257.4305 | J12: х | K12: 1227.033 | L12: 197.54 | M12: 196.75089 | N12: х | O12: 248.73106 | P12: 7.055 | Q12: 25.14861 | R12: х | S12: 17.946331
A13: 1.1.3 | B13: покупна теплова енергія та собівартість теплової енергії власних ТЕЦ, ТЕС, АЕС, когенераційних установок | C13: тис. грн | D13: 0 | E13: 0 | F13: х | G13: 0 | H13: 0 | I13: 0 | J13: 0 | K13: 0 | L13: 0 | M13: 0 | N13: х | O13: 0 | P13: 0 | Q13: 0 | R13: х | S13: 0
A14: 1.1.4 | B14: вода для технологічних потреб та водовідведення | C14: тис. грн | D14: 105 | E14: 95.49 | F14: х | G14: 20.89885 | H14: 89.25 | I14: 81.64395 | J14: х | K14: 17.167704 | L14: 14.7 | M14: 12.70017 | N14: х | O14: 3.4800543 | P14: 1.05 | Q14: 1.14588 | R14: х | S14: 0.25109129
A15: 1.1.5 | B15: матеріали, запасні частини та інші матеріальні ресурси | C15: тис. грн | D15: 1042.81 | E15: 925.79 | F15: х | G15: 274.1 | H15: 886.3885 | I15: 791.55045 | J15: х | K15: 50 | L15: 145.9934 | M15: 123.13007 | N15: х | O15: 209.02 | P15: 10.4281 | Q15: 11.10948 | R15: х | S15: 15.08
A16: 1.2 | B16: прямі витрати на оплату праці | C16: тис. грн | D16: 4031 | E16: 3462.86 | F16: х | G16: 5686.285 | H16: 3517.4506 | I16: 3014.7659 | J16: х | K16: 4671.0924 | L16: 322.48 | M16: 289.84138 | N16: х | O16: 946.87412 | P16: 191.0694 | Q16: 158.2527 | R16: х | S16: 68.318432
A17: 1.3 | B17: інші прямі витрати, у т. ч.: | C17: тис. грн | D17: 3985.82 | E17: 3021.33 | F17: х | G17: 4470.8233 | H17: 3407.9891 | I17: 2606.4241 | J17: х | K17: 3672.6314 | L17: 346 | M17: 366.45377 | N17: х | O17: 744.47674 | P17: 23 | Q17: 61.671324 | R17: х | S17: 53.711147
A18: 1.3.1 | B18: відрахування на соціальні заходи | C18: тис. грн | D18: 886.82 | E18: 748.61 | F18: х | G18: 1250.9827 | H18: 773.83913 | I18: 663.2485 | J18: х | K18: 1027.6403 | L18: 70.9456 | M18: 63.765104 | N18: х | O18: 208.31231 | P18: 42.035268 | Q18: 34.815594 | R18: х | S18: 15.030055
A19: 1.3.2 | B19: амортизаційні відрахування | C19: тис. грн | D19: 706 | E19: 1389.7 | F19: х | G19: 1795.4 | H19: 600.1 | I19: 1188.1935 | J19: х | K19: 1474.8609 | L19: 98.84 | M19: 185.24701 | N19: х | O19: 298.9681 | P19: 7.06 | Q19: 16.25949 | R19: х | S19: 21.57101
A20: 1.3.3 | B20: інші прямі витрати | C20: тис. грн | D20: 2393 | E20: 883.02 | F20: х | G20: 1424.4406 | H20: 2034.05 | I20: 754.9821 | J20: х | K20: 1170.1302 | L20: 335.02 | M20: 117.44166 | N20: х | O20: 237.19633 | P20: 23.93 | Q20: 10.59624 | R20: х | S20: 17.114082
A21: 1.4 | B21: загальновиробничі витрати, у т. ч.: | C21: тис. грн | D21: 3594.2134 | E21: 3658.19 | F21: х | G21: 7194.6094 | H21: 3055.0814 | I21: 3127.7524 | J21: х | K21: 5910.1304 | L21: 503.18988 | M21: 486.53927 | N21: х | O21: 1198.0387 | P21: 35.942134 | Q21: 43.89828 | R21: х | S21: 86.440345
A22: 1.4.1 | B22: витрати на оплату праці | C22: тис. грн | D22: 2833.47 | E22: 2597.33 | F22: х | G22: 5122.9811 | H22: 2408.4495 | I22: 2220.7171 | J22: х | K22: 4208.3572 | L22: 396.6858 | M22: 345.44489 | N22: х | O22: 853.07336 | P22: 28.3347 | Q22: 31.16796 | R22: х | S22: 61.550562
A23: 1.4.2 | B23: відрахування на соціальні заходи | C23: тис. грн | D23: 623.3634 | E23: 578.55 | F23: х | G23: 1127.0558 | H23: 529.85889 | I23: 494.66025 | J23: х | K23: 925.83858 | L23: 87.270876 | M23: 76.94715 | N23: х | O23: 187.67614 | P23: 6.233634 | Q23: 6.9426 | R23: х | S23: 13.541124
A24: 1.4.3 | B24: інші витрати | C24: тис. грн | D24: 137.38 | E24: 482.31 | F24: х | G24: 944.57247 | H24: 116.773 | I24: 412.37505 | J24: х | K24: 775.93461 | L24: 19.2332 | M24: 64.14723 | N24: х | O24: 157.2892 | P24: 1.3738 | Q24: 5.78772 | R24: х | S24: 11.348659
A25: 2 | B25: Адміністративні витрати, у т. ч.: | C25: тис. грн | D25: 3074.97 | E25: 3542.32 | F25: х | G25: 3500.2751 | H25: 2359.4245 | I25: 3041.5508 | J25: х | K25: 2875.3586 | L25: 430.49558 | M25: 473.13013 | N25: х | O25: 582.86208 | P25: 30.751284 | Q25: 27.639033 | R25: х | S25: 42.0544
A26: 2.1 | B26: витрати на оплату праці | C26: тис. грн | D26: 1922.22 | E26: 2244.77 | F26: х | G26: 2402.7388 | H26: 1633.887 | I26: 1919.2783 | J26: х | K26: 1973.7694 | L26: 269.1108 | M26: 298.55441 | N26: х | O26: 400.10151 | P26: 19.2222 | Q26: 26.93724 | R26: х | S26: 28.867942
A27: 2.2 | B27: відрахування на соціальні заходи | C27: тис. грн | D27: 422.89 | E27: 478.8 | F27: х | G27: 528.60254 | H27: 359.45514 | I27: 422.24124 | J27: х | K27: 434.22926 | L27: 59.204376 | M27: 65.68197 | N27: х | O27: 88.022332 | P27: 4.230484 | Q27: 9.1232072 | R27: х | S27: 6.3509473
A28: 2.3 | B28: інші витрати | C28: тис. грн | D28: 729.86 | E28: 818.75 | F28: х | G28: 568.9337 | H28: 620.381 | I28: 700.03125 | J28: х | K28: 467.35995 | L28: 102.1804 | M28: 108.89375 | N28: х | O28: 94.738234 | P28: 7.2986 | Q28: 9.825 | R28: х | S28: 6.83551
A29: 2.4 | C29: тис. грн | G29: 0 | R29: х
A30: 3 | B30: Витрати на збут, у т. ч.: | C30: тис. грн | D30: 0 | E30: 0 | F30: х | G30: 0 | H30: 0 | I30: 0 | J30: х | K30: 0 | L30: 0 | M30: 0 | N30: х | O30: 0 | P30: 0 | Q30: 0 | R30: х | S30: 0
A31: 3.1 | B31: витрати на оплату праці | C31: тис. грн | D31: 0 | E31: 0 | F31: х | G31: 0 | H31: 0 | I31: 0 | J31: х | K31: 0 | L31: 0 | M31: 0 | N31: х | O31: 0 | P31: 0 | Q31: 0 | R31: х | S31: 0
A32: 3.2 | B32: відрахування на соціальні заходи | C32: тис. грн | D32: 0 | E32: 0 | F32: х | G32: 0 | H32: 0 | I32: 0 | J32: х | K32: 0 | L32: 0 | M32: 0 | N32: х | O32: 0 | P32: 0 | Q32: 0 | R32: х | S32: 0
A33: 3.3 | B33: інші витрати | C33: тис. грн | D33: 0 | E33: 0 | F33: х | G33: 0 | H33: 0 | I33: 0 | J33: х | K33: 0 | L33: 0 | M33: 0 | N33: х | O33: 0 | P33: 0 | Q33: 0 | R33: х | S33: 0
A34: 4 | B34: Інші операційні витрати* | C34: тис. грн | E34: 0 | F34: х | G34: 0 | J34: х | L34: 0 | M34: 0 | N34: х | O34: 0 | R34: х | S34: 0
A35: 5 | B35: Фінансові витрати (послуги банку за приймання платежів) | C35: тис. грн | D35: 0 | F35: х | G35: 0 | J35: х | K35: 0 | L35: 0 | M35: 0 | N35: х | P35: 0 | Q35: 0 | R35: х | S35: 0
A36: 6 | B36: Повна собівартість* | C36: тис. грн | D36: 64945.033 | E36: 60617.2 | F36: х | G36: 90959.386 | H36: 48451.296 | I36: 46176.663 | J36: х | K36: 68331.284 | L36: 7516.0749 | M36: 6995.5898 | N36: х | O36: 21106.034 | P36: 497.71292 | Q36: 973.97621 | R36: х | S36: 1522.8291
A37: 7 | B37: Розрахунковий прибуток, усього *, у т. ч.: | C37: тис. грн | E37: 0 | F37: х | G37: 0 | H37: 0 | J37: х | K37: 0 | L37: 0 | M37: 0 | N37: х | O37: 0 | P37: 19.89 | Q37: 20.15 | R37: х | S37: 0
A38: 7.1 | B38: податок на прибуток | C38: тис. грн | D38: 0 | E38: 0 | F38: х | G38: 0 | H38: 0 | I38: 0 | J38: х | K38: 0 | L38: 0 | M38: 0 | N38: х | O38: 0 | P38: х | Q38: х | R38: х | S38: 0
A39: 7.2 | B39: дивіденди | C39: тис. грн | D39: 0 | E39: 0 | F39: х | G39: 0 | H39: 0 | I39: 0 | J39: х | K39: 0 | L39: 0 | M39: 0 | N39: х | O39: 0 | P39: х | Q39: х | R39: х | S39: 0
A40: 7.3 | B40: резервний фонд (капітал) | C40: тис. грн | D40: 0 | E40: 0 | F40: х | H40: 0 | I40: 0 | J40: х | L40: 0 | M40: 0 | N40: х | O40: 0 | P40: х | Q40: х | R40: х | S40: 0
A41: 7.4 | B41: витрати на розвиок виробництва ( виробничі інвестиції) | C41: тис. грн | E41: 0 | F41: х | J41: х | K41: 0 | N41: х | O41: 0 | R41: х | S41: 0
...

Sheet Структура В
D1: Додаток до рішення виконавчого комітету міської ради | K1: Додаток 2 до рішення виконавчого комітету міської ради
A2: Структура тарифу на виробництво теплової енергії комунального підприємства по експлуатації теплового господарства "Тепловик" Старокостянтинівської міської ради
A3: №п/п | B3: Найменування показників | C3: Для потреб населення | G3: Для потреб бюджетних установ | K3: Для потреб інших споживачів
C4: тис.грн. на рік | D4: на 1 Гкал | G4: тис.грн. на рік | H4: на 1 Гкал | K4: тис.грн. на рік | L4: на 1 Гкал
A5: 1 | B5: 2 | C5: 3 | D5: 4 | G5: 3 | H5: 4 | K5: 5 | L5: 6
A6: 1 | B6: Виробнича собівартість, у т.ч.: | C6: =C7+C15+C16+C19 -> 65455.926 | D6: =C6/C43*1000 -> 1894.692 | E6: 34547 | F6: 7003 | G6: =G7+G15+G16+G19 -> 23474.56 | H6: =H7+H15+H16+H19 -> 3352.07 | I6: 1000 | J6: 505.277 | K6: =K7++K15+K16+K19 -> 3027.75 | L6: =L7+L15+L16+L19 -> 5992.25
A7: 1.1 | B7: прямі матеріальні витрати, у т.ч.: | C7: =C8+C9+C10+C12+C13+C14 -> 51202.071 | D7: =C7/C43*1000 -> 1482.0989 | E7: 34547 | F7: 7003 | G7: =G8+G9+G13+G14 -> 20585.16 | H7: =H8+H9+H13+H14 -> 2939.48 | I7: 1000 | J7: 505.277 | K7: =K8+K9+K13+K14 -> 2819.28 | L7: =L8+L9+L13+L14 -> 5579.66
A8: 1.1.1 | B8: витрати на паливо для виробництва теплової енергії котельнями | C8: 49907.871 | D8: =C8/C43*1000 -> 1444.6369 | E8: 34547 | F8: 7003 | G8: 20123.93 | H8: 2873.61 | I8: 1000 | J8: 505.277 | K8: 2786 | L8: 5513.79
A9: 1.1.2 | B9: витрати на електроенергію | C9: 1227.033 | D9: =C9/C43*1000 -> 35.517787 | E9: 34547 | F9: 7003 | G9: 248.73 | H9: 35.52 | I9: 1000 | J9: 505.277 | K9: 17.95 | L9: 35.52
A10: 1.1.3 | B10: собівартість теплової енергії власних ТЕЦ, ТЕС,АЕС, КГУ, у т.ч.: | D10: 0 | E10: 34547 | F10: 7003 | G10: 0 | H10: 0 | I10: 1000 | J10: 505.277 | K10: 0 | L10: 0
A11: 1.1.3.1 | B11: витрати на паливо у собівартості теплової енергії власних ТЕЦ, ТЕС,АЕС, КГУ | D11: 0 | E11: 34547 | F11: 7003 | G11: 0 | H11: 0 | I11: 1000 | J11: 505.277 | K11: 0 | L11: 0
A12: 1.1.4 | B12: витрати на покупну теплову енергію, у т.ч.: | D12: 0 | E12: 34547 | F12: 7003 | H12: 0 | I12: 1000 | J12: 505.277 | L12: 0
A13: 1.1.3. | B13: вода для технологічних потреб та водовідведення | C13: 17.167704 | D13: =C13/C43*1000 -> 0.49693763 | E13: 34547 | F13: 7003 | G13: 3.48 | H13: 0.5 | I13: 1000 | J13: 505.277 | K13: 0.25 | L13: 0.5
A14: 1.1.4. | B14: матеріали, запасні частини та інші матеріальні ресурси | C14: 50 | D14: =C14/C43*1000 -> 1.4473037 | E14: 34547 | F14: 7003 | G14: 209.02 | H14: 29.85 | I14: 1000 | J14: 505.277 | K14: 15.08 | L14: 29.85
A15: 1.2 | B15: прямі витрати на оплату праці з відрахуваннями на соціальні заходи | C15: 5698.7328 | D15: =C15/C43*1000 -> 164.95594 | E15: 34547 | F15: 7003 | G15: 1155.19 | H15: 164.96 | I15: 1000 | J15: 505.277 | K15: 83.35 | L15: 164.96
A16: 1.3 | B16: інші прямі витрати, у т.ч.: | C16: =C17+C18 -> 2644.9911 | D16: =C16/C43*1000 -> 76.562106 | E16: 34547 | F16: 7003 | G16: 536.17 | H16: 76.56 | I16: 1000 | J16: 505.277 | K16: 38.68 | L16: 76.56
A17: 1.3.1 | B17: амортизаційні відрахування | C17: 1474.8609 | D17: =C17/C43*1000 -> 42.691432 | E17: 34547 | F17: 7003 | G17: 298.97 | H17: 42.69 | I17: 1000 | J17: 505.277 | K17: 21.57 | L17: 42.69
A18: 1.3.2 | B18: інші прямі витрати | C18: 1170.1302 | D18: =C18/C43*1000 -> 33.870675 | E18: 34547 | F18: 7003 | G18: 237.2 | H18: 33.87 | I18: 1000 | J18: 505.277 | K18: 17.11 | L18: 33.87
A19: 1.4 | B19: загальновиробничі витрати, у т.ч.: | C19: =C20+C21 -> 5910.1304 | D19: =C19/C43*1000 -> 171.07507 | E19: 34547 | F19: 7003 | G19: 1198.04 | H19: 171.07 | I19: 1000 | J19: 505.277 | K19: 86.44 | L19: 171.07
A20: 1.4.1 | B20: витрати на оплату праці з відрахуваннями на соціальні заходи | C20: 5134.1958 | D20: =C20/C43*1000 -> 148.61481 | E20: 34547 | F20: 7003 | G20: 1040.75 | H20: 148.61 | I20: 1000 | J20: 505.277 | K20: 75.09 | L20: 148.61
A21: 1.4.2 | B21: інші витрати | C21: 775.93461 | D21: =C21/C43*1000 -> 22.46026 | E21: 34547 | F21: 7003 | G21: 157.29 | H21: 22.46 | I21: 1000 | J21: 505.277 | K21: 11.35 | L21: 22.46
A22: 2 | B22: Адміністративні витрати, у т.ч.: | C22: =C23+C24 -> 2875.3586 | D22: =C22/C43*1000 -> 83.230341 | E22: 34547 | F22: 7003 | G22: 582.86 | H22: 83.23 | I22: 1000 | J22: 505.277 | K22: 42.06 | L22: 83.23
A23: 2.1 | B23: витрати на оплату праці з відрахуваннями на соціальні заходи | C23: 2407.9986 | D23: =C23/C43*1000 -> 69.702105 | E23: 34547 | F23: 7003 | G23: 488.12 | H23: 69.7 | I23: 1000 | J23: 505.277 | K23: 35.22 | L23: 69.7
A24: 2.2 | B24: інші витрати | C24: 467.35995 | D24: =C24/C43*1000 -> 13.528236 | E24: 34547 | F24: 7003 | G24: 94.74 | H24: 13.53 | I24: 1000 | J24: 505.277 | K24: 6.84 | L24: 13.53
A25: 3 | B25: Витрати на збут, у т.ч.: | C25: 0 | D25: 0 | E25: 34547 | F25: 7003 | G25: 0 | H25: 0 | I25: 1000 | J25: 505.277 | K25: 0 | L25: 0
A26: 3.1 | B26: витрати на оплату праці з відрахуваннями на соціальні заходи | C26: 0 | D26: 0 | E26: 34547 | F26: 7003 | G26: 0 | H26: 0 | I26: 1000 | J26: 505.277 | K26: 0 | L26: 0
A27: 3.2 | B27: інші витрати | C27: 0 | D27: 0 | E27: 34547 | F27: 7003 | G27: 0 | H27: 0 | I27: 1000 | J27: 505.277 | K27: 0 | L27: 0
A28: 4 | B28: Фінансові витрати | C28: 0 | D28: 0 | E28: 34547 | F28: 7003 | G28: 0 | H28: 0 | I28: 1000 | J28: 505.277 | K28: 0 | L28: 0
A29: 5 | B29: Повна собівартість | C29: =C6+C22+C25 -> 68331.284 | D29: =C29/C43*1000 -> 1977.9224 | E29: 34547 | F29: 7003 | G29: =G6+G22 -> 24057.42 | H29: =H6+H22 -> 3435.3 | I29: 1000 | J29: 505.277 | K29: =K6+K22 -> 3069.81 | L29: =L6+L22 -> 6075.48
A30: 6 | B30: Витрати на покриття втрат | D30: 0 | E30: 34547 | F30: 7003 | H30: 0 | I30: 1000 | J30: 505.277 | L30: 0
A31: 7 | B31: Розрахунковий прибуток, у т.ч.: | C31: 0 | D31: 0 | E31: 34547 | F31: 7003 | G31: =G32+G34+G35 -> 1987.4452 | H31: =G31/G37*1000+0.01 -> 283.80911 | I31: 1000 | J31: 505.277 | K31: 143.401 | L31: 283.81
A32: 7.1 | B32: податок на прибуток | C32: 0 | D32: 0 | E32: 34547 | F32: 7003 | G32: =G34*0.18 -> 162.0252 | H32: =G32/G37*1000 -> 23.136541 | I32: 1000 | J32: 505.277 | K32: 11.691 | L32: 23.14
A33: 7.2 | B33: резервний фонд (капітал) та девіденти | D33: 0 | E33: 34547 | F33: 7003 | G33: 0 | H33: 0 | I33: 1000 | J33: 505.277 | L33: 0
A34: 7.3 | B34: на розвиток виробництва (виробничі інвестиції) | C34: 0 | D34: =C34/C43*1000 -> 0 | E34: 34547 | F34: 7003 | G34: 900.14 | H34: =G34/G37*1000 -> 128.53634 | I34: 1000 | J34: 505.277 | K34: 64.95 | L34: 128.54
A35: 7.4 | B35: інше використання прибутку | C35: 0 | D35: =C35/C43*1000 -> 0 | E35: 34547 | F35: 7003 | G35: 925.28 | H35: =G35/G37*1000 -> 132.12623 | I35: 1000 | J35: 505.277 | K35: 66.76 | L35: 132.13
A36: 8 | B36: Вартість теплової енергії за відповідним тарифом | C36: =C29+C31 -> 68331.284 | D36: =C36/C43*1000 -> 1977.9224 | E36: 34547 | F36: 7003 | G36: =G29+G31 -> 26044.865 | H36: =H29+H31 -> 3719.1091 | I36: 1000 | J36: 505.277 | K36: =K29+K31 -> 3213.211 | L36: =L29+L31 -> 6359.29
A37: 9 | B37: Обсяг реалізації теплової енергії власним споживачам, Гкал. | C37: 34547 | G37: 7003 | H37: х | K37: 505.27728 | L37: х
A38: 10 | B38: Тариф на теплову енергію, гнр./Гкал, без ПДВ | D38: =D36 -> 1977.9224 | G38: х | H38: =H36 -> 3719.1091 | K38: х | L38: =L36 -> 6359.29
A39: 9.1 | B39: паливна складова | C39: 49907.871 | D39: 1444.6369 | G39: 17172.551 | H39: 2452.1706 | K39: 1239.0273 | L39: 2452.1731
A40: 9.2 | B40: решта витрат, крім паливної складової | C40: 25767.594 | D40: 745.87068 | G40: 3933.4828 | H40: 561.68539 | K40: 283.80875 | L40: 561.68911
...

Sheet Транспорт ТЕ
D1: Додаток 4
D2: до Порядку формування тарифів на теплову енергію, її виробництво, транспортування та постачання
A4: Розрахунок тарифів на транспортування теплової енергії КП "Тепловик" на період з 01.10.2021р. по 30.09.2022р.
G5: Без ПДВ
A6: N з/п | B6: Показники | C6: Одиниця виміру | D6: Усього
D7: Період, попередній базовому (факт 2019 р.) | E7: Базовий перід (факт 2020 р.) | F7: Передбачено діючим тарифом | G7: Плановий період з 01.10.2021 по 30.09.2022р.
A8: 1 | B8: 2 | C8: 3 | D8: 4 | E8: 5 | F8: 6 | G8: 6
A9: 1 | B9: Виробнича собівартість, у тому числі: | C9: тис. грн | D9: 2998.4148 | E9: 5730.36 | F9: 0 | G9: 8032.4302
A10: 1.1 | B10: Прямі матеріальні витрати, у тому числі: | C10: тис. грн | D10: 1131.6 | E10: 3472.49 | F10: 0 | G10: 2924.5033
A11: 1.1.1 | B11: електроенергія | C11: тис. грн | D11: 958.6 | E11: 2806.56 | F11: 0 | G11: 2760.0805
A12: 1.1.2 | B12: транспортування теплової енергії тепловими мережами інших підприємств | C12: тис. грн | D12: 0 | E12: 0 | F12: 0 | G12: 0
A13: 1.1.3 | B13: вода для технологічних потреб та водовідведення | C13: тис. грн | D13: 112 | E13: 112 | F13: 0 | G13: 112.3028
A14: 1.1.4 | B14: матеріали, запасні частини та інші матеріальні ресурси | C14: тис. грн | D14: 61 | E14: 553.93 | F14: 0 | G14: 52.12
A15: 1.2 | B15: Прямі витрати на оплату праці | C15: тис. грн | D15: 378 | E15: 96.45 | F15: 0 | G15: 511.484
A16: 1.3 | B16: Інші прямі витрати, у тому числі: | C16: тис. грн | D16: 1294 | E16: 1643.41 | F16: 0 | G16: 1964.0261
A17: 1.3.1 | B17: відрахування на соціальні заходи | C17: тис. грн | D17: 92 | E17: 26.41 | F17: 0 | G17: 112.52648
A18: 1.3.2 | B18: амортизаційні відрахування | C18: тис. грн | D18: 845 | E18: 1356 | F18: 0 | G18: 1781.886
A19: 1.3.3 | B19: інші прямі витрати | C19: тис. грн | D19: 357 | E19: 261 | F19: 0 | G19: 69.6136
A20: 1.4 | B20: Загальновиробничі витрати, у тому числі: | C20: тис. грн | D20: 194.8148 | E20: 518.01 | F20: 0 | G20: 2632.4169
... A35: 7 | B35: Розрахунковий прибуток*, усього, у тому числі: | C35: тис. грн | D35: 0 | E35: 0 | F35: 0 | G35: 0
A36: 7.1 | B36: податок на прибуток | C36: тис. грн | E36: х | F36: 0 | G36: 0
A37: 7.2 | B37: дивіденди | C37: тис. грн | E37: х | F37: 0 | G37: 0
A38: 7.3 | B38: резервний фонд (капітал) | C38: тис. грн | E38: х | F38: 0 | G38: 0
A39: 7.4 | B39: витрати на покриття втрат 2% | C39: тис. грн | E39: х | F39: 0
A40: 7.5 | B40: інше використання прибутку | C40: тис. грн | E40: х | F40: 0
A41: 8 | B41: Вартість транспортування теплової енергії за відповідними тарифами | C41: тис. грн | D41: 1547 | E41: 6231.97 | F41: 0 | G41: 9306.3371
A42: 9 | B42: Середньозважений тариф на транспортування теплової енергії | C42: грн/Гкал | D42: 27.34 | E42: 152.24434 | F42: 0 | G42: 221.28821
A43: 10 | B43: Обсяг надходження теплової енергії до мережі ліцензіата, у т. ч.: | C43: Гкал | D43: 59623 | E43: 0 | F43: 0 | G43: 49376.493
A44: 10.1 | B44: власної теплової енергії | C44: Гкал | D44: 59623 | F44: 0 | G44: 49376.493
A45: 10.2 | B45: теплоенергії інших власників для транспортування мережами ліцензіата | C45: Гкал | D45: 0 | E45: 0 | F45: 0 | G45: 0
A46: 11 | B46: Втрати теплової енергії в мережах ліцензіата, всього, у т. ч.: | C46: Гкал | D46: 6872 | E46: 0 | F46: 0 | G46: 6396
A47: 11.1 | B47: власної теплової енергії | C47: Гкал | D47: 6872 | E47: 0 | F47: 0 | G47: 6396
A48: 11.2 | B48: теплової енергії інших власників | C48: Гкал | D48: 0 | E48: 0 | F48: 0 | G48: 0
A49: 12 | B49: Корисний відпуск теплової енергії з мереж ліцензіата, усього, у т. ч.: | C49: Гкал | D49: 52751 | F49: 0 | G49: 42980.493
A50: 12.1 | B50: господарські потреби ліцензованої діяльності ліцензіата | C50: Гкал | D50: 1242 | E50: 0 | F50: 0 | G50: 925.2161
A51: 12.2 | B51: корисний відпуск теплової енергії інших власників | C51: Гкал | D51: 0 | E51: 0 | F51: 0 | G51: 0
A52: 12.3 | B52: Корисний відпуск теплової енергії власним споживачам, у т. ч. на потреби: | C52: Гкал | D52: 46509 | E52: 40934 | F52: 42055.277 | G52: 42055.277
A53: 12.3.1 | B53: населення | C53: Гкал | D53: 39540 | E53: 33371 | F53: 34547 | G53: 34547
A54: 12.3.2 | B54: бюджетних установ | C54: Гкал | D54: 6528 | E54: 7003 | F54: 7003 | G54: 7003
A55: 12.3.3 | B55: інших споживачів | C55: Гкал | D55: 441 | E55: 560 | F55: 505.27728 | G55: 505.27728
...

Sheet Структура Т
F1: Додаток до рішення виконавчого комітету міської ради | M1: Додаток 3 до рішення виконавчого комітету міської ради
A2: Структура тарифу на транспортування теплової енергії комунального підприємства по експлуатації теплового господарства "Тепловик" Старокостянтинівської міської ради
A3: № п/п | B3: Найменування показників | C3: на 1 Гкал(грн)для всіх | E3: Для потреб населення | I3: Для потреб бюджетних установ | M3: Для потреб інших споживачів
C4: тис.грн. на рік | D4: на 1 Гкал | E4: тис.грн. на рік | F4: на 1 Гкал | I4: тис.грн. на рік | J4: на 1 Гкал | M4: тис.грн. на рік | N4: на 1 Гкал
A5: 1 | B5: 2 | C5: 3 | D5: 4 | E5: 3 | F5: 4 | I5: 3 | J5: 4 | M5: 5 | N5: 6
A6: 1 | B6: Виробнича собівартість, у т.ч.: | C6: 8032.4302 | D6: 190.99696 | E6: =E7+E15+E16+E19 -> 6598.3721 | F6: =E6/E43*1000 -> 190.99696 | G6: 7003 | H6: 1000 | I6: 1337.56 | J6: 190.99696 | K6: 505.28 | L6: 1000 | M6: 96.506945 | N6: 190.99696
A7: 1.1 | B7: прямі матеріальні витрати, у т.ч.: | C7: 2924.5033 | D7: 69.539507 | E7: =E9+E13+E14 -> 2402.3814 | F7: =E7/E43*F47 -> 69.539507 | G7: 7003 | H7: 1000 | I7: 486.98517 | J7: 69.539507 | K7: 505.28 | L7: 1000 | M7: 35.13 | N7: 69.539507
A8: 1.1.1 | B8: витрати на паливо для виробництва теплової енергії котельнями | C8: 0 | D8: 0 | E8: 0 | G8: 7003 | H8: 1000 | I8: 0 | J8: 0 | K8: 505.28 | L8: 1000 | M8: 0 | N8: 0
A9: 1.1.2 | B9: витрати на електроенергію | C9: 2760.0805 | D9: 65.629825 | E9: 2267.3135 | F9: =E9/E43*F47 -> 65.629825 | G9: 7003 | H9: 1000 | I9: 459.60566 | J9: 65.629825 | K9: 505.28 | L9: 1000 | M9: 33.161438 | N9: 65.629825
A10: 1.1.3 | B10: собівартість теплової енергії власних ТЕЦ, ТЕС,АЕС, КГУ, у т.ч.: | C10: 0 | D10: 0 | E10: 0 | G10: 7003 | H10: 1000 | I10: 0 | J10: 0 | K10: 505.28 | L10: 1000 | M10: 0 | N10: 0
A11: 1.1.3.1 | B11: витрати на паливо у собівартості теплової енергії власних ТЕЦ, ТЕС,АЕС, КГУ | D11: 0 | E11: 0 | G11: 7003 | H11: 1000 | I11: 0 | J11: 0 | K11: 505.28 | L11: 1000 | M11: 0 | N11: 0
A12: 1.1.4 | B12: витрати на покупну теплову енергію, у т.ч.: | D12: 0 | E12: 0 | G12: 7003 | H12: 1000 | I12: 0 | J12: 0 | K12: 505.28 | L12: 1000 | M12: 0 | N12: 0
A13: 1.1.3. | B13: вода для технологічних потреб та водовідведення | C13: 112.3028 | D13: 2.6703615 | E13: 92.25298 | F13: =E13/E43*F47 -> 2.6703615 | G13: 7003 | H13: 1000 | I13: 18.700542 | J13: 2.6703615 | K13: 505.28 | L13: 1000 | M13: 1.3492803 | N13: 2.6703615
A14: 1.1.4. | B14: матеріали, запасні частини та інші матеріальні ресурси | C14: 52.12 | D14: 1.2393213 | E14: 42.814832 | F14: =E14/E43*F47 -> 1.2393213 | G14: 7003 | H14: 1000 | I14: 8.6789669 | J14: 1.2393213 | K14: 505.28 | L14: 1000 | M14: 0.62 | N14: 1.2393213
A15: 1.2 | B15: прямі витрати на оплату праці з відрахуваннями на соціальні заходи | C15: 624.01048 | D15: 14.837864 | E15: 512.60368 | F15: =E15/E43*F47 -> 14.837864 | G15: 7003 | H15: 1000 | I15: 103.90956 | J15: 14.837864 | K15: 505.28 | L15: 1000 | M15: 7.4972759 | N15: 14.837864
A16: 1.3 | B16: інші прямі витрати, у т.ч.: | C16: 1851.4996 | D16: 44.025381 | E16: =E17+E18 -> 1520.9448 | F16: =E16/E43*F47 -> 44.025381 | G16: 7003 | H16: 1000 | I16: 308.30974 | J16: 44.025381 | K16: 505.28 | L16: 1000 | M16: 22.245144 | N16: 44.025381
A17: 1.3.1 | B17: амортизаційні відрахування | C17: 1781.886 | D17: 42.370093 | E17: 1463.7596 | F17: =E17/E43*F47 -> 42.370093 | G17: 7003 | H17: 1000 | I17: 296.71776 | J17: 42.370093 | K17: 505.28 | L17: 1000 | M17: 21.40876 | N17: 42.370093
A18: 1.3.2 | B18: інші прямі витрати | C18: 69.6136 | D18: 1.6552881 | E18: 57.185238 | F18: =E18/E43*F47 -> 1.6552881 | G18: 7003 | H18: 1000 | I18: 11.591983 | J18: 1.6552881 | K18: 505.28 | L18: 1000 | M18: 0.83638397 | N18: 1.6552881
A19: 1.4 | B19: загальновиробничі витрати, у т.ч.: | C19: 2632.4169 | D19: 62.59421 | E19: =E20+E21 -> 2162.4422 | F19: =E19/E43*F47 -> 62.59421 | G19: 7003 | H19: 1000 | I19: 438.34725 | J19: 62.59421 | K19: 505.28 | L19: 1000 | M19: 31.627432 | N19: 62.593873
A20: 1.4.1 | B20: витрати на оплату праці з відрахуваннями на соціальні заходи | C20: 2286.8283 | D20: 54.376726 | E20: 1878.5528 | F20: =E20/E43*F47 -> 54.376726 | G20: 7003 | H20: 1000 | I20: 380.80021 | J20: 54.376726 | K20: 505.28 | L20: 1000 | M20: 27.475472 | N20: 54.376726
A21: 1.4.2 | B21: інші витрати | C21: 345.58856 | D21: 8.2174839 | E21: 283.88941 | F21: =E21/E43*F47 -> 8.2174839 | G21: 7003 | H21: 1000 | I21: 57.547039 | J21: 8.21 | K21: 505.28 | L21: 1000 | M21: 4.1521302 | N21: 8.21
A22: 2 | B22: Адміністративні витрати, у т.ч.: | C22: 1273.9069 | D22: 30.291248 | E22: =E23+E24 -> 1046.4718 | F22: =E22/E43*F47 -> 30.291248 | G22: 7003 | H22: 1000 | I22: 212.12961 | J22: 30.291248 | K22: 505.28 | L22: 1000 | M22: 15.3 | N22: 30.291248
A23: 2.1 | B23: витрати на оплату праці з відрахуваннями на соціальні заходи | C23: 1072.5486 | D23: 25.503307 | E23: 881.06275 | F23: =E23/E43*F47 -> 25.503307 | G23: 7003 | H23: 1000 | I23: 178.59966 | J23: 25.503307 | K23: 505.28 | L23: 1000 | M23: 12.88 | N23: 25.503307
A24: 2.2 | B24: інші витрати | C24: 201.3582 | D24: 4.7879414 | E24: 165.40901 | F24: =E24/E43*F47 -> 4.7879414 | G24: 7003 | H24: 1000 | I24: 33.529954 | J24: 4.7879414 | K24: 505.28 | L24: 1000 | M24: 2.419251 | N24: 4.7879414
A25: 3 | B25: Витрати на збут, у т.ч.: | D25: 0 | E25: 0 | G25: 7003 | H25: 1000 | I25: 0 | J25: 0 | K25: 505.28 | L25: 1000 | M25: 0 | N25: 0
A26: 3.1 | B26: витрати на оплату праці з відрахуваннями на соціальні заходи | C26: 0 | D26: 0 | E26: 0 | G26: 7003 | H26: 1000 | I26: 0 | J26: 0 | K26: 505.28 | L26: 1000 | M26: 0 | N26: 0
A27: 3.2 | B27: інші витрати | C27: 0 | D27: 0 | E27: 0 | G27: 7003 | H27: 1000 | I27: 0 | J27: 0 | K27: 505.28 | L27: 1000 | M27: 0 | N27: 0
A28: 4 | B28: Фінансові витрати | D28: 0 | E28: 0 | G28: 7003 | H28: 1000 | I28: 0 | J28: 0 | K28: 505.28 | L28: 1000 | M28: 0 | N28: 0
A29: 5 | B29: Повна собівартість | C29: 9306.3371 | D29: 221.28821 | E29: =E6+E22 -> 7644.8438 | F29: =E29/E43*F47 -> 221.28821 | G29: 7003 | H29: 1000 | I29: =I6+I22 -> 1549.6896 | J29: 221.28821 | K29: 505.28 | L29: 1000 | M29: 111.81251 | N29: 221.28821
A30: 6 | B30: Витрати на покриття втрат | D30: 0 | E30: 0 | G30: 7003 | H30: 1000 | I30: 0 | J30: 0 | K30: 505.28 | L30: 1000 | M30: 0 | N30: 0
A31: 7 | B31: Розрахунковий прибуток, у т.ч.: | C31: 0 | D31: 0 | E31: 0 | G31: 7003 | H31: 1000 | I31: 0 | J31: 0 | K31: 505.28 | L31: 1000 | M31: 0 | N31: 0
A32: 7.1 | B32: податок на прибуток | C32: 0 | D32: 0 | E32: 0 | G32: 7003 | H32: 1000 | I32: 0 | J32: 0 | K32: 505.28 | L32: 1000 | M32: 0 | N32: 0
A33: 7.2 | B33: резервний фонд (капітал) та девіденти | D33: 0 | E33: 0 | G33: 7003 | H33: 1000 | I33: 0 | J33: 0 | K33: 505.28 | L33: 1000 | M33: 0 | N33: 0
A34: 7.3 | B34: на розвиток виробництва (виробничі інвестиції) | C34: 0 | D34: 0 | E34: 0 | G34: 7003 | H34: 1000 | I34: 0 | J34: 0 | K34: 505.28 | L34: 1000 | M34: 0 | N34: 0
A35: 7.4 | B35: інше використання прибутку | C35: 0 | D35: 0 | E35: 0 | G35: 7003 | H35: 1000 | I35: 0 | J35: 0 | K35: 505.28 | L35: 1000 | M35: 0 | N35: 0
A36: 8 | B36: Вартість теплової енергії за відповідним тарифом | C36: 9306.3371 | D36: 221.28821 | E36: =E29 -> 7644.8438 | F36: =E36/E43*F47 -> 221.28821 | G36: 7003 | H36: 1000 | I36: 1549.69 | J36: 221.28821 | K36: 505.28 | L36: 1000 | M36: 111.81251 | N36: 221.28821
A37: 9 | B37: Обсяг реалізації теплової енергії власним споживачам, Гкал. | C37: 42055.277 | D37: 42055.277 | E37: 34547 | I37: 7003 | J37: х | M37: 505.28 | N37: х
A38: 10 | B38: Тариф на теплову енергію, гнр./Гкал, без ПДВ | D38: 221.28821 | G38: 7003 | H38: 1000 | I38: х | J38: 221.28821 | K38: 505.28 | L38: 1000 | M38: х | N38: 221.28821
A39: 9.1 | B39: паливна складова | C39: 0 | D39: 0 | E39: 0 | G39: 7003 | H39: 1000 | I39: х | J39: 0 | K39: 505.28 | L39: 1000 | M39: х | N39: 0
A40: 9.2 | B40: решта витрат, крім паливної складової | C40: 0 | D40: 221.28821 | E40: 0 | G40: 0 | H40: 0 | I40: х | J40: 221.28821 | K40: 505.28 | L40: 0 | M40: х | N40: 221.28821
...

Sheet Постачання ТЕ 
D1: Додаток 5
D2: до Порядку формування тарифів на теплову енергію, її виробництво, транспортування та постачання
A4: Розрахунок тарифів на постачання теплової енергії КП "Тепловик" на період з 01.10.2021р. по 30.09.2022р.
F6: Без ПДВ
A7: N з/п | B7: Показники | C7: Одиниця виміру | D7: Усього
D8: Період, попередній базовому (факт 2019 р.) | E8: Базовий перід (факт 2020 р.) | F8: Плановий період з 01.10.2021р. по 30.09.2022р.
A9: 1 | B9: 2 | C9: 3 | D9: 4 | E9: 5 | F9: 7
A10: 1 | B10: Виробнича собівартість, у тому числі: | C10: тис. грн | D10: 999 | E10: 3224.5 | F10: 2656.1872
A11: 1.1 | B11: прямі матеріальні витрати | C11: тис. грн | D11: 95 | E11: 1151.78 | F11: 17.41
A12: 1.2 | B12: прямі витрати на оплату праці | C12: тис. грн | D12: 360 | E12: 866.1 | F12: 1818.784
A13: 1.3 | B13: інші прямі витрати, у тому числі: | C13: тис. грн | D13: 544 | E13: 1206.62 | F13: 413.31248
A14: 1.3.1 | B14: відрахування на соціальні заходи | C14: тис. грн | D14: 184 | E14: 246.6 | F14: 400.13248
A15: 1.3.2 | B15: амортизаційні відрахування | C15: тис. грн | D15: 129 | E15: 12.5 | F15: 10.78
A16: 1.3.3 | B16: інші прямі витрати | C16: тис. грн | D16: 231 | E16: 947.52 | F16: 2.4
A17: 1.4 | B17: Загальновиробничі витрати, у тому числі: | C17: тис. грн | D17: 77.35 | E17: 408 | F17: 406.68071
A18: 1.4.1 | B18: витрати на оплату праці | C18: тис. грн | D18: 60.94 | E18: 289.68 | F18: 289.66445
A19: 1.4.2 | B19: відрахування на соціальні заходи | C19: тис. грн | D19: 13.42 | E19: 64.52 | F19: 63.726178
A20: 1.4.3 | B20: інші витрати | C20: тис. грн | D20: 2.99 | E20: 53.8 | F20: 53.290088
A21: 2 | B21: Адміністративні витрати, у тому числі: | C21: тис. грн | D21: 64.59 | E21: 395.07 | F21: 204.69537
... A31: 6 | B31: Повна собівартість* | C31: тис. грн | D31: 1063.59 | E31: 3619.57 | F31: 2860.8826
A32: 7 | B32: Розрахунковий прибуток, усього, у тому числі: | C32: тис. грн | F32: 0
A33: 7.1 | B33: податок на прибуток | C33: тис. грн | D33: х | E33: х | F33: 0
A34: 7.2 | B34: дивіденди | C34: тис. грн | D34: х | E34: х | F34: 0
A35: 7.3 | B35: резервний фонд (капітал) | C35: тис. грн | D35: х | E35: х | F35: 0
A36: 7.4 | B36: витрати на покриття втрат 2% | C36: тис. грн | D36: х | E36: х
A37: 7.5 | B37: інше використання прибутку | C37: тис. грн | D37: х | E37: х
A38: 8 | B38: Вартість постачання теплової енергії за відповідними тарифами | C38: тис. грн | D38: 1063.59 | E38: 3619.57 | F38: 2860.8826
A39: 9 | B39: Середньозважений тариф на постачання теплової енергії | C39: грн/Гкал | D39: 28.046041 | E39: 88.424537 | F39: 68.02672
A40: 10 | B40: Обсяг реалізованої теплової енергії власним споживачам, у тому числі на потреби: | C40: Гкал | D40: 37923 | E40: 40934 | F40: 42055.277
A41: 10.1 | B41: населення | C41: Гкал | D41: 32422 | E41: 33371 | F41: 34547
A42: 10.2 | B42: бюджетних установ | C42: Гкал | D42: 5056 | E42: 7003 | F42: 7003
A43: 10.3 | B43: інших споживачів | C43: Гкал | D43: 445 | E43: 560 | F43: 505.27728
A45: * Без урахування списання безнадійної дебіторської заборгованості та нарахування резерву сумнівних боргів

Sheet Стуктура П
F1: Додаток до рішення виконавчого комітету міської ради | L1: Додаток 4 до рішення виконавчого комітету міської ради
A2: Структура тарифу на постачання теплової енергії комунального підприємства по експлуатації теплового господарства "Тепловик" Старокостянтинівської міської ради
A3: № п/п | B3: Найменування показників | C3: на 1 Гкал(грн)для всіх | E3: для потреб населення | I3: Для потреб бюджетних установ | L3: Для потреб інших споживачів
C4: тис.грн. на рік | D4: на 1 Гкал | E4: тис.грн. на рік | F4: на 1 Гкал | I4: тис.грн. на рік | J4: на 1 Гкал | L4: тис.грн. на рік | M4: на 1 Гкал
A5: 1 | B5: 2 | C5: 3 | D5: 4 | E5: 3 | F5: 4 | I5: 3 | J5: 4 | L5: 5 | M5: 6
A6: 1 | B6: Виробнича собівартість, у т.ч.: | C6: 2656.1872 | D6: 63.159427 | E6: 2181.9687 | F6: 63.159427 | G6: 7003 | H6: 1000 | I6: 442.31 | J6: 63.159427 | K6: 505.277 | L6: 31.913006 | M6: 63.159427 | N6: =N7+N15+N16+N19 -> 2181.9687 | O6: =N6/N43*1000 -> 63.159427
A7: 1.1 | B7: прямі матеріальні витрати, у т.ч.: | C7: 17.41 | D7: 0.41397896 | E7: 14.301731 | F7: 0.41397896 | G7: 7003 | H7: 1000 | I7: 2.9 | J7: 0.41 | K7: 505.277 | L7: 0.21 | M7: 0.41 | N7: =N14 -> 14.301731 | O7: =N7/N43*P47 -> 0.41397896
A8: 1.1.1 | B8: витрати на паливо для виробництва теплової енергії котельнями | C8: 0 | D8: 0 | E8: 0 | F8: 0 | G8: 7003 | H8: 1000 | I8: 0 | J8: 0 | K8: 505.277 | L8: 0 | M8: 0 | N8: 0
A9: 1.1.2 | B9: витрати на електроенергію | C9: 0 | D9: 0 | E9: 0 | F9: 0 | G9: 7003 | H9: 1000 | I9: 0 | J9: 0 | K9: 505.277 | L9: 0 | M9: 0 | N9: 0
A10: 1.1.3 | B10: собівартість теплової енергії власних ТЕЦ, ТЕС,АЕС, КГУ, у т.ч.: | D10: 0 | E10: 0 | F10: 0 | G10: 7003 | H10: 1000 | I10: 0 | J10: 0 | K10: 505.277 | L10: 0 | M10: 0 | N10: 0
A11: 1.1.3.1 | B11: витрати на паливо у собівартості теплової енергії власних ТЕЦ, ТЕС,АЕС, КГУ | D11: 0 | E11: 0 | F11: 0 | G11: 7003 | H11: 1000 | I11: 0 | J11: 0 | K11: 505.277 | L11: 0 | M11: 0 | N11: 0
A12: 1.1.4 | B12: витрати на покупну теплову енергію, у т.ч.: | D12: 0 | E12: 0 | F12: 0 | G12: 7003 | H12: 1000 | I12: 0 | J12: 0 | K12: 505.277 | L12: 0 | M12: 0 | N12: 0
A13: 1.1.3. | B13: вода для технологічних потреб та водовідведення | D13: 0 | E13: 0 | F13: 0 | G13: 7003 | H13: 1000 | I13: 0 | J13: 0 | K13: 505.277 | L13: 0 | M13: 0 | N13: 0
A14: 1.1.4. | B14: матеріали, запасні частини та інші матеріальні ресурси | C14: 87 | D14: 2.0687059 | E14: 14.3 | F14: 0.41 | G14: 7003 | H14: 1000 | I14: =I7 -> 2.9 | J14: 0.41 | K14: 505.277 | L14: 0.21 | M14: =M7 -> 0.41 | N14: 14.301731 | O14: =N14/N43*P47 -> 0.41397896
A15: 1.2 | B15: прямі витрати на оплату праці з відрахуваннями на соціальні заходи | C15: 2218.9165 | D15: 52.761904 | E15: 1822.7655 | F15: 52.761904 | G15: 7003 | H15: 1000 | I15: 369.49 | J15: 52.76 | K15: 505.277 | L15: 26.66 | M15: 52.761904 | N15: 1822.7655 | O15: =N15/N43*P47 -> 52.761903
A16: 1.3 | B16: інші прямі витрати, у т.ч.: | C16: 13.18 | D16: 0.31339706 | E16: 10.826928 | F16: 0.31339706 | G16: 7003 | H16: 1000 | I16: 2.2 | J16: 0.32 | K16: 505.277 | L16: 0.15835232 | M16: 0.32 | N16: =N17+N18 -> 10.826928 | O16: =N16/N43*P47 -> 0.31339705
A17: 1.3.1 | B17: амортизаційні відрахування | C17: 10.78 | D17: 0.25632931 | E17: 8.8554086 | F17: 0.25632931 | G17: 7003 | H17: 1000 | I17: 1.7950741 | J17: 0.25632931 | K17: 505.277 | L17: 0.1295173 | M17: 0.25632931 | N17: 8.8554086 | O17: =N17/N43*P47 -> 0.25632931
A18: 1.3.2 | B18: інші прямі витрати | C18: 2.4 | D18: 0.057067749 | E18: 1.9715195 | F18: 0.057067749 | G18: 7003 | H18: 1000 | I18: 0.39964545 | J18: 0.057067749 | K18: 505.277 | L18: 0.028835021 | M18: 0.057067749 | N18: 1.9715195 | O18: =N18/N43*P47 -> 0.057067749
A19: 1.4 | B19: загальновиробничі витрати, у т.ч.: | C19: 406.68071 | D19: 9.6701471 | E19: 334.07457 | F19: 9.6701471 | G19: 7003 | H19: 1000 | I19: 67.72004 | J19: 9.6701471 | K19: 505.277 | L19: 4.88 | M19: 9.6701471 | N19: =N20+N21 -> 334.07458 | O19: =N19/N43*P47 -> 9.6701472
A20: 1.4.1 | B20: витрати на оплату праці з відрахуваннями на соціальні заходи | C20: 353.39063 | D20: 8.4030032 | E20: 290.29855 | F20: 8.4030032 | G20: 7003 | H20: 1000 | I20: 58.846231 | J20: 8.4030032 | K20: 505.277 | L20: 4.24 | M20: 8.4030032 | N20: 290.29856 | O20: =N20/N43*P47 -> 8.4030032
A21: 1.4.2 | B21: інші витрати | C21: 53.290088 | D21: 1.2671439 | E21: 43.776021 | F21: 1.2671439 | G21: 7003 | H21: 1000 | I21: 8.8738088 | J21: 1.2671439 | K21: 505.277 | L21: 0.64 | M21: 1.2671439 | N21: 43.776021 | O21: =N21/N43*P47 -> 1.2671439
A22: 2 | B22: Адміністративні витрати, у т.ч.: | C22: 204.69537 | D22: 4.8672933 | E22: 168.15038 | F22: 4.8672933 | G22: 7003 | H22: 1000 | I22: 34.085655 | J22: 4.8672933 | K22: 505.277 | L22: 2.4593314 | M22: 4.8672933 | N22: =N23+N24 -> 168.15038 | O22: =N22/N43*P47 -> 4.8672933
A23: 2.1 | B23: витрати на оплату праці з відрахуваннями на соціальні заходи | C23: 165.73937 | D23: 3.9409887 | E23: 136.14934 | F23: 3.9409887 | G23: 7003 | H23: 1000 | I23: 27.6 | J23: 3.9409887 | K23: 505.277 | L23: 1.991291 | M23: 3.9409887 | N23: 136.14934 | O23: =N23/N43*P47 -> 3.9409887
A24: 2.2 | B24: інші витрати | C24: 38.955996 | D24: 0.92630459 | E24: 32.001045 | F24: 0.92630459 | G24: 7003 | H24: 1000 | I24: 6.4869111 | J24: 0.92630459 | K24: 505.277 | L24: 0.46804041 | M24: 0.92630459 | N24: 32.001045 | O24: =N24/N43*P47 -> 0.92630459
A25: 3 | B25: Витрати на збут, у т.ч.: | C25: 0 | D25: 0 | E25: 0 | F25: 0 | G25: 7003 | H25: 1000 | I25: 0 | J25: 0 | K25: 505.277 | L25: 0 | M25: 0 | N25: 0
A26: 3.1 | B26: витрати на оплату праці з відрахуваннями на соціальні заходи | C26: 0 | D26: 0 | E26: 0 | F26: 0 | G26: 7003 | H26: 1000 | I26: 0 | J26: 0 | K26: 505.277 | L26: 0 | M26: 0 | N26: 0
A27: 3.2 | B27: інші витрати | C27: 0 | D27: 0 | E27: 0 | F27: 0 | G27: 7003 | H27: 1000 | I27: 0 | J27: 0 | K27: 505.277 | L27: 0 | M27: 0 | N27: 0
A28: 4 | B28: Фінансові витрати | D28: 0 | E28: 0 | F28: 0 | G28: 7003 | H28: 1000 | I28: 0 | J28: 0 | K28: 505.277 | L28: 0 | M28: 0 | N28: 0
A29: 5 | B29: Повна собівартість | C29: 2860.8826 | D29: 68.02672 | E29: 2350.1191 | F29: 68.02672 | G29: 7003 | H29: 1000 | I29: =I6+I22 -> 476.39566 | J29: =68.03 -> 68.03 | K29: 505.277 | L29: 34.372337 | M29: 68.02672 | N29: =N6+N22 -> 2350.1191 | O29: =N29/N43*P47 -> 68.02672
A30: 6 | B30: Витрати на покриття втрат | D30: 0 | E30: 0 | F30: 0 | G30: 7003 | H30: 1000 | I30: 0 | J30: 0 | K30: 505.277 | L30: 0 | M30: 0 | N30: 0
A31: 7 | B31: Розрахунковий прибуток, у т.ч.: | C31: 0 | D31: 0 | E31: 0 | F31: 0 | G31: 7003 | H31: 1000 | I31: 0 | J31: 0 | K31: 505.277 | L31: 0 | M31: 0 | O31: =N31/N43*P47 -> 0
A32: 7.1 | B32: податок на прибуток | C32: 0 | D32: 0 | E32: 0 | F32: 0 | G32: 7003 | H32: 1000 | I32: 0 | J32: 0 | K32: 505.277 | L32: 0 | M32: 0 | O32: =N32/N43*P47 -> 0
A33: 7.2 | B33: резервний фонд (капітал) та девіденти | D33: 0 | E33: 0 | F33: 0 | G33: 7003 | H33: 1000 | I33: 0 | J33: 0 | K33: 505.277 | L33: 0 | M33: 0 | N33: 0
A34: 7.3 | B34: на розвиток виробництва (виробничі інвестиції) | C34: 0 | D34: 0 | E34: 0 | F34: 0 | G34: 7003 | H34: 1000 | I34: 0 | J34: 0 | K34: 505.277 | L34: 0 | M34: 0 | N34: 0
A35: 7.4 | B35: інше використання прибутку | C35: 0 | D35: 0 | E35: 0 | F35: 0 | G35: 7003 | H35: 1000 | I35: 0 | J35: 0 | K35: 505.277 | L35: 0 | M35: 0 | O35: =N35/N43*P47 -> 0
A36: 8 | B36: Вартість теплової енергії за відповідним тарифом | C36: 2860.8826 | D36: 68.02672 | E36: 2350.1191 | F36: 68.02672 | G36: 7003 | H36: 1000 | I36: =I29 -> 476.39566 | J36: =J29 -> 68.03 | K36: 505.277 | L36: 34.372337 | M36: 68.02672 | N36: =N29+N31 -> 2350.1191 | O36: =N36/N43*P47 -> 68.02672
A37: 9 | B37: Обсяг реалізації теплової енергії власним споживачам, Гкал. | C37: 42055.277 | E37: 34547 | F37: х | I37: 7003 | J37: х | L37: 505.28 | M37: х
A38: 10 | B38: Тариф на теплову енергію, гнр./Гкал, без ПДВ | D38: 0 | E38: 0 | F38: 68.02672 | I38: 0 | J38: =J29 -> 68.03 | L38: 0 | M38: =68.03 -> 68.03 | N38: 0
A39: 9.1 | B39: паливна складова | D39: 0 | E39: 0 | F39: 0 | I39: 0 | J39: 0 | L39: 0 | M39: 0 | N39: 0
A40: 9.2 | B40: решта витрат, крім паливної складової | C40: 2860.8826 | D40: 68.02672 | E40: 2350.1191 | F40: 68.02672 | I40: 476.39112 | J40: 68.02672 | L40: 34.372337 | M40: 68.02672 | N40: 3951.2437
...

Sheet загальна структура
F1: Додаток до рішення виконавчого комітету міської ради | M1: Додаток 1 до рішення виконавчого комітету міської ради
A2: Структура тарифу на теплову енергію комунального підприємства по експлуатації теплового господарства "Тепловик" Старокостянтинівської міської ради
A4: №п/п | B4: Найменування показників | C4: діючий тариф | E4: плановий тариф | G4: діючий тариф | I4: плановий тариф | K4: діючий тариф | M4: плановий тариф | O4: середньозважені показники
C5: для потреб населення №355 | E5: Для потреб населення | G5: для потреб бюджетних установ №355 | I5: Для потреб бюджетних установ | K5: для потреб інших споживачів №355 | M5: Для потреб інших споживачів
C6: тис.грн. на рік | D6: на 1 Гкал | E6: тис.грн. на рік | F6: на 1 Гкал | G6: тис.грн. на рік | H6: на 1 Гкал | I6: тис.грн. на рік | J6: на 1 Гкал | K6: тис.грн. на рік | L6: на 1 Гкал | M6: тис.грн. на рік | N6: на 1 Гкал
A7: 1 | B7: 2 | E7: 3 | F7: 4 | I7: 3 | J7: 4 | M7: 5 | N7: 6
A8: 1 | B8: Виробнича собівартість, у т.ч.: | C8: 62929.02 | D8: 1405.09 | E8: 74236.266 | F8: 2148.8484 | G8: 11844.9 | H8: 1405.09 | I8: ='Структура В'!G6+'Структура Т'!I6+'Стуктура П'!I6 -> 25254.43 | J8: =J9+J20+J21+J24 -> 3606.23 | K8: 952.54 | L8: 1405.09 | M8: ='Структура В'!K6+'Структура Т'!M6+'Стуктура П'!L6 -> 3156.17 | N8: =N9+N20+N21+N24 -> 6246.41 | O8: 98148.494
A9: 1.1 | B9: прямі матеріальні витрати, у т.ч.: | C9: 52895.94 | D9: 1181.07 | E9: 53618.754 | F9: 1552.0524 | G9: 9956.42 | H9: 1181.07 | I9: =I10+I14+I18+I19 -> 21075.05 | J9: =J10+J14+J18+J19 -> 3009.43 | K9: 800.76 | L9: 1181.07 | M9: =M10+M14+M18+M19 -> 2854.62 | N9: =N10+N14+N18+N19 -> 5649.61 | O9: 73050.071
A10: 1.1.1 | B10: витрати на паливо для виробництва теплової енергії котельнями | C10: 49725.05 | D10: 1110.27 | E10: 49907.871 | F10: 1444.6369 | G10: 9359.58 | H10: 1110.27 | I10: ='Структура В'!G8 -> 20123.93 | J10: ='Структура В'!H8 -> 2873.61 | K10: 752.76 | L10: 1110.27 | M10: ='Структура В'!K8 -> 2786 | N10: ='Структура В'!L8 -> 5513.79 | O10: 68319.449
B11: (6235,51) природний газ(/5092,16*4048) | C11: 44371.134 | D11: 990.72678 | E11: 39675.385 | F11: 1148.4466 | G11: 8351.8303 | H11: 990.72678 | I11: 13651.706 | J11: 1949.4082 | K11: 671.71003 | L11: 990.72678 | M11: 984.96171 | N11: 1949.37 | O11: 54312.052
B12: (157,19) транспортування (/5092,16*124,16) | C12: 1118.545 | D12: 24.975077 | E12: 1216.9209 | F12: 35.225082 | G12: 210.53999 | H12: 24.975077 | I12: 418.72426 | J12: 59.792126 | K12: 16.933033 | L12: 24.975077 | M12: 30.210683 | N12: 59.790339 | O12: 1665.8558
B13: (595,20) розподіл(/5092,16*920) | C13: 4235.3711 | D13: 94.56814 | E13: 9015.5647 | F13: 260.9652 | G13: 797.20975 | H13: 94.56814 | I13: 3102.1208 | J13: 442.97027 | K13: 64.116938 | L13: 94.56814 | M13: 223.85493 | N13: 443.01408 | O13: 12341.54
A14: 1.1.2 | B14: витрати на електроенергію | C14: 2922.32 | D14: 65.25 | E14: 3494.3465 | F14: 101.14761 | G14: 550.06 | H14: 65.25 | I14: 708.34 | J14: 101.15 | K14: 44.24 | L14: 65.25 | M14: 51.11 | N14: 101.15 | O14: 4253.791
A15: 1.1.3 | B15: собівартість теплової енергії власних ТЕЦ, ТЕС,АЕС, КГУ, у т.ч.: | E15: 0 | F15: 0 | I15: 0 | J15: 0 | M15: 0 | N15: 0 | O15: 0
A16: 1.1.3.1 | B16: витрати на паливо у собівартості теплової енергії власних ТЕЦ, ТЕС,АЕС, КГУ | E16: 0 | F16: 0 | I16: 0 | J16: 0 | M16: 0 | N16: 0 | O16: 0
A17: 1.1.4 | B17: витрати на покупну теплову енергію, у т.ч.: | E17: 0 | F17: 0 | I17: 0 | J17: 0 | M17: 0 | N17: 0 | O17: 0
A18: 1.1.3. | B18: вода для технологічних потреб та водовідведення | C18: 110.79 | D18: 2.47 | E18: 109.42068 | F18: 3.1672992 | G18: 20.82 | H18: 2.47 | I18: 22.18 | J18: 3.17 | K18: 1.67 | L18: 2.47 | M18: 1.6 | N18: 3.17 | O18: 133.20165
A19: 1.1.4. | B19: матеріали, запасні частини та інші матеріальні ресурси | C19: 137.78 | D19: 3.08 | E19: 164.28242 | F19: 4.7553309 | G19: 25.96 | H19: 3.08 | I19: 220.6 | J19: 31.5 | K19: 2.09 | L19: 3.08 | M19: 15.91 | N19: 31.5 | O19: 413.22
A20: 1.2 | B20: прямі витрати на оплату праці з відрахуваннями на соціальні заходи | C20: 5240.01 | D20: 117 | E20: 8034.102 | F20: 232.55571 | G20: 986.31 | H20: 117 | I20: 1628.59 | J20: 232.56 | K20: 79.23 | L20: 117 | M20: 117.51 | N20: 232.56 | O20: 9780.1947
A21: 1.3 | B21: інші прямі витрати, у т.ч.: | C21: 1142.56 | D21: 25.51 | E21: 4176.7628 | F21: 120.90088 | G21: 215.05 | H21: 25.51 | I21: 846.68 | J21: 120.91 | K21: 17.29 | L21: 25.51 | M21: 61.09 | N21: 120.91 | O21: 5084.5203
A22: 1.3.1 | B22: амортизаційні відрахування | C22: 806.66 | D22: 18.01 | E22: 2947.4759 | F22: 85.317854 | G22: 151.82 | H22: 18.01 | I22: 597.49 | J22: 85.32 | K22: 12.21 | L22: 18.01 | M22: 43.11 | N22: 85.32 | O22: 3588.0661
A23: 1.3.2 | B23: інші прямі витрати | C23: 335.9 | D23: 7.5 | E23: 1229.287 | F23: 35.58303 | G23: 63.23 | H23: 7.5 | I23: 249.19 | J23: 35.59 | K23: 5.08 | L23: 7.5 | M23: 17.98 | N23: 35.59 | O23: 1496.4542
A24: 1.4 | B24: загальновиробничі витрати, у т.ч.: | C24: 3650.51 | D24: 81.51 | E24: 8406.6471 | F24: 243.33943 | G24: 687.12 | H24: 81.51 | I24: =I25+I26 -> 1704.1 | J24: 243.33 | K24: 55.26 | L24: 81.51 | M24: 122.95 | N24: 243.33 | O24: 10233.707
A25: 1.4.1 | B25: витрати на оплату праці з відрахуваннями на соціальні заходи | C25: 3321.11 | D25: 74.15 | E25: 7303.0471 | F25: 211.39454 | G25: 625.08 | H25: 74.15 | I25: 1480.4 | J25: 211.39 | K25: 50.27 | L25: 74.15 | M25: 106.81 | N25: 211.39 | O25: 8890.256
A26: 1.4.2 | B26: інші витрати | C26: 329.4 | D26: 7.36 | E26: 1103.6 | F26: 31.944888 | G26: 62.04 | H26: 7.36 | I26: 223.7 | J26: 31.94 | K26: 4.99 | L26: 7.36 | M26: 16.14 | N26: 31.94 | O26: 1343.4511
A27: 2 | B27: Адміністративні витрати, у т.ч.: | C27: 1821.53 | D27: 40.67 | E27: 4089.9807 | F27: 118.38888 | G27: 342.85 | H27: 40.67 | I27: 829.08 | J27: 118.39 | K27: 27.57 | L27: 40.67 | M27: 59.82 | N27: 118.39 | O27: 4978.8774
A28: 2.1 | B28: витрати на оплату праці з відрахуваннями на соціальні заходи | C28: 1705.92 | D28: 38.09 | E28: 3425.2107 | F28: 99.146401 | G28: 321.1 | H28: 38.09 | I28: 694.32 | J28: 99.14 | K28: 25.82 | L28: 38.09 | M28: 50.09 | N28: 99.14 | O28: 4169.6294
A29: 2.2 | B29: інші витрати | C29: 115.61 | D29: 2.58 | E29: 664.77001 | F29: 19.242482 | G29: 21.75 | H29: 2.58 | I29: 134.76 | J29: 19.25 | K29: 1.75 | L29: 2.58 | M29: 9.73 | N29: 19.25 | O29: 809.24791
A30: 3 | B30: Витрати на збут, у т.ч.: | C30: 47.03 | D30: 1.05 | E30: 0 | F30: 0 | G30: 8.85 | H30: 1.05 | I30: 0 | J30: 0 | K30: 0.71 | L30: 1.05 | M30: 0 | N30: 0 | O30: 0
A31: 3.1 | B31: витрати на оплату праці з відрахуваннями на соціальні заходи | C31: 44.79 | D31: 1 | E31: 0 | F31: 0 | G31: 8.43 | H31: 1 | I31: 0 | J31: 0 | K31: 0.68 | L31: 1 | M31: 0 | N31: 0 | O31: 0
A32: 3.2 | B32: інші витрати | C32: 2.24 | D32: 0.05 | E32: 0 | F32: 0 | G32: 0.42 | H32: 0.05 | I32: 0 | J32: 0 | K32: 0.03 | L32: 0.05 | M32: 0 | N32: 0 | O32: 0
A33: 4 | B33: Фінансові витрати | E33: 0 | F33: 0 | I33: 0 | J33: 0 | M33: 0 | N33: 0 | O33: 0
A34: 5 | B34: Повна собівартість | C34: 64797.58 | D34: 1446.81 | E34: 78326.247 | F34: 2267.2373 | G34: 12196.6 | H34: 1446.81 | I34: =I8+I27 -> 26083.51 | J34: =J8+J27 -> 3724.62 | K34: 980.82 | L34: 1446.81 | M34: =M8+M27 -> 3215.99 | N34: =N8+N27 -> 6364.8 | O34: 103127.37
A35: 6 | B35: Витрати на покриття втрат | E35: 0 | F35: 0 | I35: 0 | J35: 0 | M35: 0 | N35: 0 | O35: 0
A36: 7 | B36: Розрахунковий прибуток, у т.ч.: | E36: 0 | F36: 0 | G36: 1216.65 | H36: 144.68 | I36: =I37+I39+I40 -> 1987.4452 | J36: =I36/I42*1000+0.01 -> 283.80911 | K36: 98.09 | L36: 144.68 | M36: =M37+M39+M40 -> 143.401 | N36: =M36/M42*1000 -> 283.80655 | O36: 0
A37: 7.1 | B37: податок на прибуток | E37: 0 | F37: 0 | G37: 219.52 | H37: 26.04 | I37: =I39*0.18 -> 162.0252 | J37: =I37/I42*1000 -> 23.136541 | K37: 17.65 | L37: 26.04 | M37: =M39*0.18 -> 11.691 | N37: =M37/M42*1000 -> 23.137791 | O37: 0
A38: 7.2 | B38: резервний фонд (капітал) та девіденти | E38: 0 | F38: 0 | I38: 0 | J38: 0 | N38: =M38/M42*1000 -> 0 | O38: 0
A39: 7.3 | B39: на розвиток виробництва (виробничі інвестиції) | E39: 0 | F39: 0 | G39: 1000.13 | H39: 118.64 | I39: =900.04+0.1 -> 900.14 | J39: =I39/I42*1000 -> 128.53634 | K39: 80.44 | L39: 118.64 | M39: 64.95 | N39: =M39/M42*1000 -> 128.54328 | O39: 0
A40: 7.4 | B40: інше використання прибутку | E40: 0 | F40: 0 | I40: 925.28 | J40: =I40/I42*1000 -> 132.12623 | M40: 66.76 | N40: =M40/M42*1000 -> 132.12548 | O40: 0
A41: 8 | B41: Вартість теплової енергії за відповідним тарифом | C41: 64797.58 | D41: 1446.81 | E41: 78326.247 | F41: 2267.2273 | G41: 13413.25 | H41: 1591.49 | I41: ='Структура В'!G36+'Структура Т'!I36+'Стуктура П'!I36+0.01 -> 28070.961 | J41: =J34+J36 -> 4008.4291 | K41: 1078.91 | L41: 1591.49 | M41: =M34+M36 -> 3359.391 | N41: =N34+N36 -> 6648.6065 | O41: 103127.37
...

Sheet Послуга
F1: Додаток до рішення виконавчого комітету міської ради | M1: Додаток 16 до рішення виконавчого комітету міської ради
A2: Структура тарифу послугу з постачання теплової енергії комунального підприємства по експлуатації теплового господарства "Тепловик" Старокостянтинівської міської ради
A4: №п/п | B4: Найменування показників | C4: діючий тариф | E4: плановий тариф | G4: діючий тариф | I4: плановий тариф | K4: діючий тариф | M4: плановий тариф | O4: середньозважені показники
C5: для потреб населення №355 | E5: Для потреб населення | G5: для потреб бюджетних установ №355 | I5: Для потреб бюджетних установ | K5: для потреб інших споживачів №355 | M5: Для потреб інших споживачів
C6: тис.грн. на рік | D6: на 1 Гкал | E6: тис.грн. на рік | F6: на 1 Гкал | G6: тис.грн. на рік | H6: на 1 Гкал | I6: тис.грн. на рік | J6: на 1 Гкал | K6: тис.грн. на рік | L6: на 1 Гкал | M6: тис.грн. на рік | N6: на 1 Гкал
A7: 1 | B7: 2 | E7: 3 | F7: 4 | I7: 3 | J7: 4 | M7: 5 | N7: 6
A8: 1 | B8: Виробнича собівартість, у т.ч.: | C8: 62929.02 | D8: 1405.09 | E8: 74236.266 | F8: 2148.8484 | G8: 11844.9 | H8: 1405.09 | I8: =I9+I20+I21+I24 -> 22303.04 | J8: =J9+J20+J21+J24 -> 3184.79 | K8: 952.54 | L8: 1405.09 | M8: 1609.2 | N8: =N9+N20+N21+N24 -> 3184.79 | O8: 98148.494
A9: 1.1 | B9: прямі матеріальні витрати, у т.ч.: | C9: 52895.94 | D9: 1181.07 | E9: 53618.754 | F9: 1552.0524 | G9: 9956.42 | H9: 1181.07 | I9: 18123.67 | J9: =J10+J14+J18+J19 -> 2587.99 | K9: 800.76 | L9: 1181.07 | M9: 1307.65 | N9: 2587.99 | O9: 73050.071
A10: 1.1.1 | B10: витрати на паливо для виробництва теплової енергії котельнями | C10: 49725.05 | D10: 1110.27 | E10: 49907.871 | F10: 1444.6369 | G10: 9359.58 | H10: 1110.27 | I10: 17172.55 | J10: 2452.17 | K10: 752.76 | L10: 1110.27 | M10: 1239.03 | N10: 2452.17 | O10: 68319.449
B11: (6235,51) природний газ(/5092,16*4048) | C11: 44371.134 | D11: 990.72678 | E11: 39675.385 | F11: 1148.4466 | G11: 8351.8303 | H11: 990.72678 | I11: 13651.706 | J11: 1949.4082 | K11: 671.71003 | L11: 990.72678 | M11: 984.96171 | N11: 1949.37 | O11: 54312.052
B12: (157,19) транспортування (/5092,16*124,16) | C12: 1118.545 | D12: 24.975077 | E12: 1216.9209 | F12: 35.225082 | G12: 210.53999 | H12: 24.975077 | I12: 418.72426 | J12: 59.792126 | K12: 16.933033 | L12: 24.975077 | M12: 30.210683 | N12: 59.790339 | O12: 1665.8558
B13: (595,20) розподіл(/5092,16*920) | C13: 4235.3711 | D13: 94.56814 | E13: 9015.5647 | F13: 260.9652 | G13: 797.20975 | H13: 94.56814 | I13: 3102.1208 | J13: 442.97027 | K13: 64.116938 | L13: 94.56814 | M13: 223.85493 | N13: 443.01408 | O13: 12341.54
A14: 1.1.2 | B14: витрати на електроенергію | C14: 2922.32 | D14: 65.25 | E14: 3494.3465 | F14: 101.14761 | G14: 550.06 | H14: 65.25 | I14: 708.34 | J14: 101.15 | K14: 44.24 | L14: 65.25 | M14: 51.11 | N14: 101.15 | O14: 4253.791
A15: 1.1.3 | B15: собівартість теплової енергії власних ТЕЦ, ТЕС,АЕС, КГУ, у т.ч.: | E15: 0 | F15: 0 | I15: 0 | J15: 0 | M15: 0 | N15: 0 | O15: 0
A16: 1.1.3.1 | B16: витрати на паливо у собівартості теплової енергії власних ТЕЦ, ТЕС,АЕС, КГУ | E16: 0 | F16: 0 | I16: 0 | J16: 0 | M16: 0 | N16: 0 | O16: 0
A17: 1.1.4 | B17: витрати на покупну теплову енергію, у т.ч.: | E17: 0 | F17: 0 | I17: 0 | J17: 0 | M17: 0 | N17: 0 | O17: 0
A18: 1.1.3. | B18: вода для технологічних потреб та водовідведення | C18: 110.79 | D18: 2.47 | E18: 109.42068 | F18: 3.1672992 | G18: 20.82 | H18: 2.47 | I18: 22.18 | J18: 3.17 | K18: 1.67 | L18: 2.47 | M18: 1.6 | N18: 3.17 | O18: 133.20165
A19: 1.1.4. | B19: матеріали, запасні частини та інші матеріальні ресурси | C19: 137.78 | D19: 3.08 | E19: 164.28242 | F19: 4.7553309 | G19: 25.96 | H19: 3.08 | I19: 220.6 | J19: 31.5 | K19: 2.09 | L19: 3.08 | M19: 15.91 | N19: 31.5 | O19: 413.22
A20: 1.2 | B20: прямі витрати на оплату праці з відрахуваннями на соціальні заходи | C20: 5240.01 | D20: 117 | E20: 8034.102 | F20: 232.55571 | G20: 986.31 | H20: 117 | I20: 1628.59 | J20: 232.56 | K20: 79.23 | L20: 117 | M20: 117.51 | N20: 232.56 | O20: 9780.1947
A21: 1.3 | B21: інші прямі витрати, у т.ч.: | C21: 1142.56 | D21: 25.51 | E21: 4176.7628 | F21: 120.90088 | G21: 215.05 | H21: 25.51 | I21: 846.68 | J21: 120.91 | K21: 17.29 | L21: 25.51 | M21: 61.09 | N21: 120.91 | O21: 5084.5203
A22: 1.3.1 | B22: амортизаційні відрахування | C22: 806.66 | D22: 18.01 | E22: 2947.4759 | F22: 85.317854 | G22: 151.82 | H22: 18.01 | I22: 597.49 | J22: 85.32 | K22: 12.21 | L22: 18.01 | M22: 43.11 | N22: 85.32 | O22: 3588.0661
A23: 1.3.2 | B23: інші прямі витрати, у т.ч.: | C23: 335.9 | D23: 7.5 | E23: 1229.287 | F23: 35.58303 | G23: 63.23 | H23: 7.5 | I23: 249.19 | J23: 35.59 | K23: 5.08 | L23: 7.5 | M23: 17.98 | N23: 35.59 | O23: 1496.4542
A24: 1.4 | B24: загальновиробничі витрати, у т.ч.: | C24: 3650.51 | D24: 81.51 | E24: 8406.6471 | F24: 243.33943 | G24: 687.12 | H24: 81.51 | I24: =I25+I26 -> 1704.1 | J24: 243.33 | K24: 55.26 | L24: 81.51 | M24: 122.95 | N24: 243.33 | O24: 10233.707
A25: 1.4.1 | B25: витрати на оплату праці з відрахуваннями на соціальні заходи | C25: 3321.11 | D25: 74.15 | E25: 7303.0471 | F25: 211.39454 | G25: 625.08 | H25: 74.15 | I25: 1480.4 | J25: 211.39 | K25: 50.27 | L25: 74.15 | M25: 106.81 | N25: 211.39 | O25: 8890.256
A26: 1.4.2 | B26: інші витрати | C26: 329.4 | D26: 7.36 | E26: 1103.6 | F26: 31.944888 | G26: 62.04 | H26: 7.36 | I26: 223.7 | J26: 31.94 | K26: 4.99 | L26: 7.36 | M26: 16.14 | N26: 31.94 | O26: 1343.4511
A27: 2 | B27: Адміністративні витрати, у т.ч.: | C27: 1821.53 | D27: 40.67 | E27: 4089.9807 | F27: 118.38888 | G27: 342.85 | H27: 40.67 | I27: 829.08 | J27: 118.39 | K27: 27.57 | L27: 40.67 | M27: 59.82 | N27: 118.39 | O27: 4978.8774
A28: 2.1 | B28: витрати на оплату праці з відрахуваннями на соціальні заходи | C28: 1705.92 | D28: 38.09 | E28: 3425.2107 | F28: 99.146401 | G28: 321.1 | H28: 38.09 | I28: 694.32 | J28: 99.14 | K28: 25.82 | L28: 38.09 | M28: 50.09 | N28: 99.14 | O28: 4169.6294
A29: 2.2 | B29: інші витрати | C29: 115.61 | D29: 2.58 | E29: 664.77001 | F29: 19.242482 | G29: 21.75 | H29: 2.58 | I29: 134.76 | J29: 19.25 | K29: 1.75 | L29: 2.58 | M29: 9.73 | N29: 19.25 | O29: 809.24791
A30: 3 | B30: Витрати на збут, у т.ч.: | C30: 47.03 | D30: 1.05 | E30: 0 | F30: 0 | G30: 8.85 | H30: 1.05 | I30: 0 | J30: 0 | K30: 0.71 | L30: 1.05 | M30: 0 | N30: 0 | O30: 0
A31: 3.1 | B31: витрати на оплату праці з відрахуваннями на соціальні заходи | C31: 44.79 | D31: 1 | E31: 0 | F31: 0 | G31: 8.43 | H31: 1 | I31: 0 | J31: 0 | K31: 0.68 | L31: 1 | M31: 0 | N31: 0 | O31: 0
A32: 3.2 | B32: інші витрати | C32: 2.24 | D32: 0.05 | E32: 0 | F32: 0 | G32: 0.42 | H32: 0.05 | I32: 0 | J32: 0 | K32: 0.03 | L32: 0.05 | M32: 0 | N32: 0 | O32: 0
A33: 4 | B33: Фінансові витрати | E33: 0 | F33: 0 | I33: 0 | J33: 0 | M33: 0 | N33: 0 | O33: 0
A34: 5 | B34: Повна собівартість | C34: 64797.58 | D34: 1446.81 | E34: 78326.247 | F34: 2267.2373 | G34: 12196.6 | H34: 1446.81 | I34: =I8+I27 -> 23132.12 | J34: =J8+J27 -> 3303.18 | K34: 980.82 | L34: 1446.81 | M34: 1669.0179 | N34: =N8+N27 -> 3303.18 | O34: 103127.37
A35: 6 | B35: Витрати на покриття втрат | E35: 0 | F35: 0 | I35: 0 | J35: 0 | M35: 0 | N35: 0 | O35: 0
A36: 7 | B36: Розрахунковий прибуток, у т.ч.: | E36: 0 | F36: 0 | G36: 1216.65 | H36: 144.68 | I36: =I37+I39+I40 -> 1987.4272 | J36: =I36/I42*1000 -> 283.79654 | K36: 98.09 | L36: 144.68 | M36: 0 | N36: 0 | O36: 0
A37: 7.1 | B37: податок на прибуток | E37: 0 | F37: 0 | G37: 219.52 | H37: 26.04 | I37: =I39*0.18 -> 162.0072 | J37: =I37/I42*1000 -> 23.133971 | K37: 17.65 | L37: 26.04 | M37: 0 | N37: 0 | O37: 0
A38: 7.2 | B38: резервний фонд (капітал) та девіденти | E38: 0 | F38: 0 | I38: 0 | J38: 0 | M38: 0 | N38: 0 | O38: 0
A39: 7.3 | B39: на розвиток виробництва (виробничі інвестиції) | E39: 0 | F39: 0 | G39: 1000.13 | H39: 118.64 | I39: 900.04 | J39: =I39/I42*1000 -> 128.52206 | K39: 80.44 | L39: 118.64 | M39: 0 | N39: 0 | O39: 0
A40: 7.4 | B40: інше використання прибутку | E40: 0 | F40: 0 | I40: 925.38 | J40: =I40/I42*1000 -> 132.14051 | M40: 0 | N40: 0 | O40: 0
A41: 8 | B41: Вартість теплової енергії за відповідним тарифом | C41: 64797.58 | D41: 1446.81 | E41: 78326.247 | F41: 2267.2273 | G41: 13413.25 | H41: 1591.49 | I41: =I34+I36 -> 25119.547 | J41: =J34+J36 -> 3586.9765 | K41: 1078.91 | L41: 1591.49 | M41: 1669.0209 | N41: =N34 -> 3303.18 | O41: 103127.37
...

Sheet Лист8
D1: Додаток 6
D2: до Порядку формування тарифів на теплову енергію, її виробництво, транспортування та постачання
A4: Розрахунок тарифів на теплову енергію КП "Тепловик " на період з 01.10.2021 по 30.09.2022р.
G6: Без ПДВ
A7: N з/п | B7: Найменування показника | C7: Одиниця виміру | D7: Сумарні та середньозва-жені показники | E7: На потреби споживачів:
E8: населення | F8: бюджетних установ | G8: інших споживачів
A9: 1 | B9: 2 | C9: 3 | D9: 4 | E9: 5 | F9: 6 | G9: 7
A10: 1 | B10: Тариф на виробництво теплової енергії, у т. ч.: | C10: грн/Гкал | D10: 2162.8731 | E10: 1977.9224 | F10: 3013.856 | G10: 3013.8483
A11: 1.1 | B11: повна планова собівартість виробництва теплової енергії | C11: грн/Гкал | D11: 2162.8631 | E11: 1977.9224 | F11: 3013.856 | G11: 3013.8583
A12: 1.2 | B12: плановий прибуток | C12: грн/Гкал | D12: 0 | E12: 0 | F12: 0 | G12: 0
A13: 2 | B13: Тариф на транспортування теплової енергії, у т. ч.: | C13: грн/Гкал | D13: 221.28821 | E13: 221.28821 | F13: 221.28821 | G13: 221.28821
A14: 2.1 | B14: повна планова собівартість транспортування теплової енергії | C14: грн/Гкал | D14: 221.28821 | E14: 221.28821 | F14: 221.28821 | G14: 221.28821
A15: 2.2 | B15: плановий прибуток | C15: грн/Гкал | D15: 0 | E15: 0 | F15: 0 | G15: 0
A16: 3 | B16: Тариф на постачання теплової енергії, у т. ч.: | C16: грн/Гкал | D16: 68.02672 | E16: 68.02672 | F16: 68.02672 | G16: 68.02672
A17: 3.1 | B17: повна планова собівартість постачання теплової енергії | C17: грн/Гкал | D17: 68.02672 | E17: 68.02672 | F17: 68.02672 | G17: 68.02672
A18: 3.2 | B18: плановий прибуток | C18: грн/Гкал | D18: 0 | E18: 0 | F18: 0 | G18: 0
A19: 4 | B19: Тариф на теплову енергію, у т. ч.: | C19: грн/Гкал | D19: 2452.188 | E19: 2267.2273 | F19: 3303.1609 | G19: 3303.1633
A20: 4.1 | B20: повна планова собівартість теплової енергії | C20: грн/Гкал | D20: 2452.178 | E20: 2267.2373 | F20: 3303.1709 | G20: 3303.1733
A21: 4.2 | B21: плановий прибуток | C21: грн/Гкал | D21: 0 | E21: 0 | F21: 0 | G21: 0
